Workbook

Sheet 使い方
B1: 創作の作業時間ログ
B2: えりまき工房 ／ 分かり合えないとかげさん
B4: ■ 30秒で分かる使い方
B5: 1. 「記録」シートに、日付・作品名・作業の種類・時間（分）を1行ずつ書きます。メモは自由です。
B6: 2. 「集計」シートを開くと、月ごとの合計、作品ごと・作業の種類ごとの時間、続けて作業した日数、グラフが自動で出ます。
B7: 3. 作品名と作業の種類は「設定」シートで書きかえ・追加できます（作品名20個、作業の種類12個まで）。
B9: ■ 入力のきまり
B10: ・色のついたセルだけ入力できます。ほかのセルは、式をうっかり消さないように保護しています（パスワードなし）。
B11: ・日付は 2026/10/23 のように入れます。時間は分で、1〜1440の整数です（1時間半なら 90）。
B12: ・同じ日に何行書いてもかまいません。並び順も自由です（並べ替え・フィルターも使えます）。
B13: ・作品名は「設定」のリストから選びます。リストにない名前も入れられますが、集計では「設定にない作品名」にまとめられます。
B14: ・記録は2000行まで入ります。2000行に近づいたら、新しいファイルで続けてください。
... B35: このファイルの構成と式は、AI（Claude）が作りました。

Sheet 集計
A1: 創作の作業時間ログ ― 集計
A3: 対象年 | C3: =IF(B3="",YEAR(TODAY()),B3) | D3: ← 西暦で入れる。空なら今年
A5: まとめ
A6: 合計（時間） | B6: =ROUND(SUM(B9:B20)/60,1) | C6: 作業した日数 | D6: =SUMIF(日別!E2:E732,1,日別!C2:C732) | F6: いまの連続 | G6: =IF(日別!I4<日別!I2,0,INDEX(日別!D2:D732,日別!I4-日別!I5+1))
F7: 最長の連続 | G7: =MAX(日別!F2:F732)
A8: 月 | B8: 分 | C8: 時間 | D8: 作業した日 | F8: 作品名 | G8: この年（時間） | H8: 全期間（時間） | J8: 作業の種類 | K8: 時間 | L8: 割合
A9: 1月 | B9: =SUMIFS(記録!$D$2:$D$2001,記録!$A$2:$A$2001,">="&DATE($C$3,1,1),記録!$A$2:$A$2001,"<"&DATE($C$3,1+1,1)) | C9: =ROUND(B9/60,1) | D9: =SUMIFS(日別!$C$2:$C$732,日別!$A$2:$A$732,">="&DATE($C$3,1,1),日別!$A$2:$A$732,"<"&DATE($C$3,1+1,1)) | F9: =IF(設定!A2="","",設定!A2) | G9: =IF(F9="","",ROUND(SUMIFS(記録!$D$2:$D$2001,記録!$B$2:$B$2001,F9,記録!$A$2:$A$2001,">="&DATE($C$3,1,1),記録!$A$2:$A$2001,"<"&DATE($C$3+1,1,1))/60,1)) | H9: =IF(F9="","",ROUND(SUMIF(記録!$B$2:$B$2001,F9,記録!$D$2:$D$2001)/60,1)) | J9: =IF(設定!C2="","",設定!C2) | K9: =IF(J9="","",ROUND(SUMIFS(記録!$D$2:$D$2001,記録!$C$2:$C$2001,J9,記録!$A$2:$A$2001,">="&DATE($C$3,1,1),記録!$A$2:$A$2001,"<"&DATE($C$3+1,1,1))/60,1)) | L9: =IF(OR(J9="",$B$21=0),"",SUMIFS(記録!$D$2:$D$2001,記録!$C$2:$C$2001,J9,記録!$A$2:$A$2001,">="&DATE($C$3,1,1),記録!$A$2:$A$2001,"<"&DATE($C$3+1,1,1))/$B$21) | M9: =IF(F9="",0,SUMIFS(記録!$D$2:$D$2001,記録!$B$2:$B$2001,F9,記録!$A$2:$A$2001,">="&DATE($C$3,1,1),記録!$A$2:$A$2001,"<"&DATE($C$3+1,1,1))) | N9: =IF(F9="",0,SUMIF(記録!$B$2:$B$2001,F9,記録!$D$2:$D$2001)) | O9: =IF(J9="",0,SUMIFS(記録!$D$2:$D$2001,記録!$C$2:$C$2001,J9,記録!$A$2:$A$2001,">="&DATE($C$3,1,1),記録!$A$2:$A$2001,"<"&DATE($C$3+1,1,1)))
A10: 2月 | B10: =SUMIFS(記録!$D$2:$D$2001,記録!$A$2:$A$2001,">="&DATE($C$3,2,1),記録!$A$2:$A$2001,"<"&DATE($C$3,2+1,1)) | C10: =ROUND(B10/60,1) | D10: =SUMIFS(日別!$C$2:$C$732,日別!$A$2:$A$732,">="&DATE($C$3,2,1),日別!$A$2:$A$732,"<"&DATE($C$3,2+1,1)) | F10: =IF(設定!A3="","",設定!A3) | G10: =IF(F10="","",ROUND(SUMIFS(記録!$D$2:$D$2001,記録!$B$2:$B$2001,F10,記録!$A$2:$A$2001,">="&DATE($C$3,1,1),記録!$A$2:$A$2001,"<"&DATE($C$3+1,1,1))/60,1)) | H10: =IF(F10="","",ROUND(SUMIF(記録!$B$2:$B$2001,F10,記録!$D$2:$D$2001)/60,1)) | J10: =IF(設定!C3="","",設定!C3) | K10: =IF(J10="","",ROUND(SUMIFS(記録!$D$2:$D$2001,記録!$C$2:$C$2001,J10,記録!$A$2:$A$2001,">="&DATE($C$3,1,1),記録!$A$2:$A$2001,"<"&DATE($C$3+1,1,1))/60,1)) | L10: =IF(OR(J10="",$B$21=0),"",SUMIFS(記録!$D$2:$D$2001,記録!$C$2:$C$2001,J10,記録!$A$2:$A$2001,">="&DATE($C$3,1,1),記録!$A$2:$A$2001,"<"&DATE($C$3+1,1,1))/$B$21) | M10: =IF(F10="",0,SUMIFS(記録!$D$2:$D$2001,記録!$B$2:$B$2001,F10,記録!$A$2:$A$2001,">="&DATE($C$3,1,1),記録!$A$2:$A$2001,"<"&DATE($C$3+1,1,1))) | N10: =IF(F10="",0,SUMIF(記録!$B$2:$B$2001,F10,記録!$D$2:$D$2001)) | O10: =IF(J10="",0,SUMIFS(記録!$D$2:$D$2001,記録!$C$2:$C$2001,J10,記録!$A$2:$A$2001,">="&DATE($C$3,1,1),記録!$A$2:$A$2001,"<"&DATE($C$3+1,1,1)))
A11: 3月 | B11: =SUMIFS(記録!$D$2:$D$2001,記録!$A$2:$A$2001,">="&DATE($C$3,3,1),記録!$A$2:$A$2001,"<"&DATE($C$3,3+1,1)) | C11: =ROUND(B11/60,1) | D11: =SUMIFS(日別!$C$2:$C$732,日別!$A$2:$A$732,">="&DATE($C$3,3,1),日別!$A$2:$A$732,"<"&DATE($C$3,3+1,1)) | F11: =IF(設定!A4="","",設定!A4) | G11: =IF(F11="","",ROUND(SUMIFS(記録!$D$2:$D$2001,記録!$B$2:$B$2001,F11,記録!$A$2:$A$2001,">="&DATE($C$3,1,1),記録!$A$2:$A$2001,"<"&DATE($C$3+1,1,1))/60,1)) | H11: =IF(F11="","",ROUND(SUMIF(記録!$B$2:$B$2001,F11,記録!$D$2:$D$2001)/60,1)) | J11: =IF(設定!C4="","",設定!C4) | K11: =IF(J11="","",ROUND(SUMIFS(記録!$D$2:$D$2001,記録!$C$2:$C$2001,J11,記録!$A$2:$A$2001,">="&DATE($C$3,1,1),記録!$A$2:$A$2001,"<"&DATE($C$3+1,1,1))/60,1)) | L11: =IF(OR(J11="",$B$21=0),"",SUMIFS(記録!$D$2:$D$2001,記録!$C$2:$C$2001,J11,記録!$A$2:$A$2001,">="&DATE($C$3,1,1),記録!$A$2:$A$2001,"<"&DATE($C$3+1,1,1))/$B$21) | M11: =IF(F11="",0,SUMIFS(記録!$D$2:$D$2001,記録!$B$2:$B$2001,F11,記録!$A$2:$A$2001,">="&DATE($C$3,1,1),記録!$A$2:$A$2001,"<"&DATE($C$3+1,1,1))) | N11: =IF(F11="",0,SUMIF(記録!$B$2:$B$2001,F11,記録!$D$2:$D$2001)) | O11: =IF(J11="",0,SUMIFS(記録!$D$2:$D$2001,記録!$C$2:$C$2001,J11,記録!$A$2:$A$2001,">="&DATE($C$3,1,1),記録!$A$2:$A$2001,"<"&DATE($C$3+1,1,1)))
A12: 4月 | B12: =SUMIFS(記録!$D$2:$D$2001,記録!$A$2:$A$2001,">="&DATE($C$3,4,1),記録!$A$2:$A$2001,"<"&DATE($C$3,4+1,1)) | C12: =ROUND(B12/60,1) | D12: =SUMIFS(日別!$C$2:$C$732,日別!$A$2:$A$732,">="&DATE($C$3,4,1),日別!$A$2:$A$732,"<"&DATE($C$3,4+1,1)) | F12: =IF(設定!A5="","",設定!A5) | G12: =IF(F12="","",ROUND(SUMIFS(記録!$D$2:$D$2001,記録!$B$2:$B$2001,F12,記録!$A$2:$A$2001,">="&DATE($C$3,1,1),記録!$A$2:$A$2001,"<"&DATE($C$3+1,1,1))/60,1)) | H12: =IF(F12="","",ROUND(SUMIF(記録!$B$2:$B$2001,F12,記録!$D$2:$D$2001)/60,1)) | J12: =IF(設定!C5="","",設定!C5) | K12: =IF(J12="","",ROUND(SUMIFS(記録!$D$2:$D$2001,記録!$C$2:$C$2001,J12,記録!$A$2:$A$2001,">="&DATE($C$3,1,1),記録!$A$2:$A$2001,"<"&DATE($C$3+1,1,1))/60,1)) | L12: =IF(OR(J12="",$B$21=0),"",SUMIFS(記録!$D$2:$D$2001,記録!$C$2:$C$2001,J12,記録!$A$2:$A$2001,">="&DATE($C$3,1,1),記録!$A$2:$A$2001,"<"&DATE($C$3+1,1,1))/$B$21) | M12: =IF(F12="",0,SUMIFS(記録!$D$2:$D$2001,記録!$B$2:$B$2001,F12,記録!$A$2:$A$2001,">="&DATE($C$3,1,1),記録!$A$2:$A$2001,"<"&DATE($C$3+1,1,1))) | N12: =IF(F12="",0,SUMIF(記録!$B$2:$B$2001,F12,記録!$D$2:$D$2001)) | O12: =IF(J12="",0,SUMIFS(記録!$D$2:$D$2001,記録!$C$2:$C$2001,J12,記録!$A$2:$A$2001,">="&DATE($C$3,1,1),記録!$A$2:$A$2001,"<"&DATE($C$3+1,1,1)))
A13: 5月 | B13: =SUMIFS(記録!$D$2:$D$2001,記録!$A$2:$A$2001,">="&DATE($C$3,5,1),記録!$A$2:$A$2001,"<"&DATE($C$3,5+1,1)) | C13: =ROUND(B13/60,1) | D13: =SUMIFS(日別!$C$2:$C$732,日別!$A$2:$A$732,">="&DATE($C$3,5,1),日別!$A$2:$A$732,"<"&DATE($C$3,5+1,1)) | F13: =IF(設定!A6="","",設定!A6) | G13: =IF(F13="","",ROUND(SUMIFS(記録!$D$2:$D$2001,記録!$B$2:$B$2001,F13,記録!$A$2:$A$2001,">="&DATE($C$3,1,1),記録!$A$2:$A$2001,"<"&DATE($C$3+1,1,1))/60,1)) | H13: =IF(F13="","",ROUND(SUMIF(記録!$B$2:$B$2001,F13,記録!$D$2:$D$2001)/60,1)) | J13: =IF(設定!C6="","",設定!C6) | K13: =IF(J13="","",ROUND(SUMIFS(記録!$D$2:$D$2001,記録!$C$2:$C$2001,J13,記録!$A$2:$A$2001,">="&DATE($C$3,1,1),記録!$A$2:$A$2001,"<"&DATE($C$3+1,1,1))/60,1)) | L13: =IF(OR(J13="",$B$21=0),"",SUMIFS(記録!$D$2:$D$2001,記録!$C$2:$C$2001,J13,記録!$A$2:$A$2001,">="&DATE($C$3,1,1),記録!$A$2:$A$2001,"<"&DATE($C$3+1,1,1))/$B$21) | M13: =IF(F13="",0,SUMIFS(記録!$D$2:$D$2001,記録!$B$2:$B$2001,F13,記録!$A$2:$A$2001,">="&DATE($C$3,1,1),記録!$A$2:$A$2001,"<"&DATE($C$3+1,1,1))) | N13: =IF(F13="",0,SUMIF(記録!$B$2:$B$2001,F13,記録!$D$2:$D$2001)) | O13: =IF(J13="",0,SUMIFS(記録!$D$2:$D$2001,記録!$C$2:$C$2001,J13,記録!$A$2:$A$2001,">="&DATE($C$3,1,1),記録!$A$2:$A$2001,"<"&DATE($C$3+1,1,1)))
A14: 6月 | B14: =SUMIFS(記録!$D$2:$D$2001,記録!$A$2:$A$2001,">="&DATE($C$3,6,1),記録!$A$2:$A$2001,"<"&DATE($C$3,6+1,1)) | C14: =ROUND(B14/60,1) | D14: =SUMIFS(日別!$C$2:$C$732,日別!$A$2:$A$732,">="&DATE($C$3,6,1),日別!$A$2:$A$732,"<"&DATE($C$3,6+1,1)) | F14: =IF(設定!A7="","",設定!A7) | G14: =IF(F14="","",ROUND(SUMIFS(記録!$D$2:$D$2001,記録!$B$2:$B$2001,F14,記録!$A$2:$A$2001,">="&DATE($C$3,1,1),記録!$A$2:$A$2001,"<"&DATE($C$3+1,1,1))/60,1)) | H14: =IF(F14="","",ROUND(SUMIF(記録!$B$2:$B$2001,F14,記録!$D$2:$D$2001)/60,1)) | J14: =IF(設定!C7="","",設定!C7) | K14: =IF(J14="","",ROUND(SUMIFS(記録!$D$2:$D$2001,記録!$C$2:$C$2001,J14,記録!$A$2:$A$2001,">="&DATE($C$3,1,1),記録!$A$2:$A$2001,"<"&DATE($C$3+1,1,1))/60,1)) | L14: =IF(OR(J14="",$B$21=0),"",SUMIFS(記録!$D$2:$D$2001,記録!$C$2:$C$2001,J14,記録!$A$2:$A$2001,">="&DATE($C$3,1,1),記録!$A$2:$A$2001,"<"&DATE($C$3+1,1,1))/$B$21) | M14: =IF(F14="",0,SUMIFS(記録!$D$2:$D$2001,記録!$B$2:$B$2001,F14,記録!$A$2:$A$2001,">="&DATE($C$3,1,1),記録!$A$2:$A$2001,"<"&DATE($C$3+1,1,1))) | N14: =IF(F14="",0,SUMIF(記録!$B$2:$B$2001,F14,記録!$D$2:$D$2001)) | O14: =IF(J14="",0,SUMIFS(記録!$D$2:$D$2001,記録!$C$2:$C$2001,J14,記録!$A$2:$A$2001,">="&DATE($C$3,1,1),記録!$A$2:$A$2001,"<"&DATE($C$3+1,1,1)))
A15: 7月 | B15: =SUMIFS(記録!$D$2:$D$2001,記録!$A$2:$A$2001,">="&DATE($C$3,7,1),記録!$A$2:$A$2001,"<"&DATE($C$3,7+1,1)) | C15: =ROUND(B15/60,1) | D15: =SUMIFS(日別!$C$2:$C$732,日別!$A$2:$A$732,">="&DATE($C$3,7,1),日別!$A$2:$A$732,"<"&DATE($C$3,7+1,1)) | F15: =IF(設定!A8="","",設定!A8) | G15: =IF(F15="","",ROUND(SUMIFS(記録!$D$2:$D$2001,記録!$B$2:$B$2001,F15,記録!$A$2:$A$2001,">="&DATE($C$3,1,1),記録!$A$2:$A$2001,"<"&DATE($C$3+1,1,1))/60,1)) | H15: =IF(F15="","",ROUND(SUMIF(記録!$B$2:$B$2001,F15,記録!$D$2:$D$2001)/60,1)) | J15: =IF(設定!C8="","",設定!C8) | K15: =IF(J15="","",ROUND(SUMIFS(記録!$D$2:$D$2001,記録!$C$2:$C$2001,J15,記録!$A$2:$A$2001,">="&DATE($C$3,1,1),記録!$A$2:$A$2001,"<"&DATE($C$3+1,1,1))/60,1)) | L15: =IF(OR(J15="",$B$21=0),"",SUMIFS(記録!$D$2:$D$2001,記録!$C$2:$C$2001,J15,記録!$A$2:$A$2001,">="&DATE($C$3,1,1),記録!$A$2:$A$2001,"<"&DATE($C$3+1,1,1))/$B$21) | M15: =IF(F15="",0,SUMIFS(記録!$D$2:$D$2001,記録!$B$2:$B$2001,F15,記録!$A$2:$A$2001,">="&DATE($C$3,1,1),記録!$A$2:$A$2001,"<"&DATE($C$3+1,1,1))) | N15: =IF(F15="",0,SUMIF(記録!$B$2:$B$2001,F15,記録!$D$2:$D$2001)) | O15: =IF(J15="",0,SUMIFS(記録!$D$2:$D$2001,記録!$C$2:$C$2001,J15,記録!$A$2:$A$2001,">="&DATE($C$3,1,1),記録!$A$2:$A$2001,"<"&DATE($C$3+1,1,1)))
A16: 8月 | B16: =SUMIFS(記録!$D$2:$D$2001,記録!$A$2:$A$2001,">="&DATE($C$3,8,1),記録!$A$2:$A$2001,"<"&DATE($C$3,8+1,1)) | C16: =ROUND(B16/60,1) | D16: =SUMIFS(日別!$C$2:$C$732,日別!$A$2:$A$732,">="&DATE($C$3,8,1),日別!$A$2:$A$732,"<"&DATE($C$3,8+1,1)) | F16: =IF(設定!A9="","",設定!A9) | G16: =IF(F16="","",ROUND(SUMIFS(記録!$D$2:$D$2001,記録!$B$2:$B$2001,F16,記録!$A$2:$A$2001,">="&DATE($C$3,1,1),記録!$A$2:$A$2001,"<"&DATE($C$3+1,1,1))/60,1)) | H16: =IF(F16="","",ROUND(SUMIF(記録!$B$2:$B$2001,F16,記録!$D$2:$D$2001)/60,1)) | J16: =IF(設定!C9="","",設定!C9) | K16: =IF(J16="","",ROUND(SUMIFS(記録!$D$2:$D$2001,記録!$C$2:$C$2001,J16,記録!$A$2:$A$2001,">="&DATE($C$3,1,1),記録!$A$2:$A$2001,"<"&DATE($C$3+1,1,1))/60,1)) | L16: =IF(OR(J16="",$B$21=0),"",SUMIFS(記録!$D$2:$D$2001,記録!$C$2:$C$2001,J16,記録!$A$2:$A$2001,">="&DATE($C$3,1,1),記録!$A$2:$A$2001,"<"&DATE($C$3+1,1,1))/$B$21) | M16: =IF(F16="",0,SUMIFS(記録!$D$2:$D$2001,記録!$B$2:$B$2001,F16,記録!$A$2:$A$2001,">="&DATE($C$3,1,1),記録!$A$2:$A$2001,"<"&DATE($C$3+1,1,1))) | N16: =IF(F16="",0,SUMIF(記録!$B$2:$B$2001,F16,記録!$D$2:$D$2001)) | O16: =IF(J16="",0,SUMIFS(記録!$D$2:$D$2001,記録!$C$2:$C$2001,J16,記録!$A$2:$A$2001,">="&DATE($C$3,1,1),記録!$A$2:$A$2001,"<"&DATE($C$3+1,1,1)))
A17: 9月 | B17: =SUMIFS(記録!$D$2:$D$2001,記録!$A$2:$A$2001,">="&DATE($C$3,9,1),記録!$A$2:$A$2001,"<"&DATE($C$3,9+1,1)) | C17: =ROUND(B17/60,1) | D17: =SUMIFS(日別!$C$2:$C$732,日別!$A$2:$A$732,">="&DATE($C$3,9,1),日別!$A$2:$A$732,"<"&DATE($C$3,9+1,1)) | F17: =IF(設定!A10="","",設定!A10) | G17: =IF(F17="","",ROUND(SUMIFS(記録!$D$2:$D$2001,記録!$B$2:$B$2001,F17,記録!$A$2:$A$2001,">="&DATE($C$3,1,1),記録!$A$2:$A$2001,"<"&DATE($C$3+1,1,1))/60,1)) | H17: =IF(F17="","",ROUND(SUMIF(記録!$B$2:$B$2001,F17,記録!$D$2:$D$2001)/60,1)) | J17: =IF(設定!C10="","",設定!C10) | K17: =IF(J17="","",ROUND(SUMIFS(記録!$D$2:$D$2001,記録!$C$2:$C$2001,J17,記録!$A$2:$A$2001,">="&DATE($C$3,1,1),記録!$A$2:$A$2001,"<"&DATE($C$3+1,1,1))/60,1)) | L17: =IF(OR(J17="",$B$21=0),"",SUMIFS(記録!$D$2:$D$2001,記録!$C$2:$C$2001,J17,記録!$A$2:$A$2001,">="&DATE($C$3,1,1),記録!$A$2:$A$2001,"<"&DATE($C$3+1,1,1))/$B$21) | M17: =IF(F17="",0,SUMIFS(記録!$D$2:$D$2001,記録!$B$2:$B$2001,F17,記録!$A$2:$A$2001,">="&DATE($C$3,1,1),記録!$A$2:$A$2001,"<"&DATE($C$3+1,1,1))) | N17: =IF(F17="",0,SUMIF(記録!$B$2:$B$2001,F17,記録!$D$2:$D$2001)) | O17: =IF(J17="",0,SUMIFS(記録!$D$2:$D$2001,記録!$C$2:$C$2001,J17,記録!$A$2:$A$2001,">="&DATE($C$3,1,1),記録!$A$2:$A$2001,"<"&DATE($C$3+1,1,1)))
A18: 10月 | B18: =SUMIFS(記録!$D$2:$D$2001,記録!$A$2:$A$2001,">="&DATE($C$3,10,1),記録!$A$2:$A$2001,"<"&DATE($C$3,10+1,1)) | C18: =ROUND(B18/60,1) | D18: =SUMIFS(日別!$C$2:$C$732,日別!$A$2:$A$732,">="&DATE($C$3,10,1),日別!$A$2:$A$732,"<"&DATE($C$3,10+1,1)) | F18: =IF(設定!A11="","",設定!A11) | G18: =IF(F18="","",ROUND(SUMIFS(記録!$D$2:$D$2001,記録!$B$2:$B$2001,F18,記録!$A$2:$A$2001,">="&DATE($C$3,1,1),記録!$A$2:$A$2001,"<"&DATE($C$3+1,1,1))/60,1)) | H18: =IF(F18="","",ROUND(SUMIF(記録!$B$2:$B$2001,F18,記録!$D$2:$D$2001)/60,1)) | J18: =IF(設定!C11="","",設定!C11) | K18: =IF(J18="","",ROUND(SUMIFS(記録!$D$2:$D$2001,記録!$C$2:$C$2001,J18,記録!$A$2:$A$2001,">="&DATE($C$3,1,1),記録!$A$2:$A$2001,"<"&DATE($C$3+1,1,1))/60,1)) | L18: =IF(OR(J18="",$B$21=0),"",SUMIFS(記録!$D$2:$D$2001,記録!$C$2:$C$2001,J18,記録!$A$2:$A$2001,">="&DATE($C$3,1,1),記録!$A$2:$A$2001,"<"&DATE($C$3+1,1,1))/$B$21) | M18: =IF(F18="",0,SUMIFS(記録!$D$2:$D$2001,記録!$B$2:$B$2001,F18,記録!$A$2:$A$2001,">="&DATE($C$3,1,1),記録!$A$2:$A$2001,"<"&DATE($C$3+1,1,1))) | N18: =IF(F18="",0,SUMIF(記録!$B$2:$B$2001,F18,記録!$D$2:$D$2001)) | O18: =IF(J18="",0,SUMIFS(記録!$D$2:$D$2001,記録!$C$2:$C$2001,J18,記録!$A$2:$A$2001,">="&DATE($C$3,1,1),記録!$A$2:$A$2001,"<"&DATE($C$3+1,1,1)))
A19: 11月 | B19: =SUMIFS(記録!$D$2:$D$2001,記録!$A$2:$A$2001,">="&DATE($C$3,11,1),記録!$A$2:$A$2001,"<"&DATE($C$3,11+1,1)) | C19: =ROUND(B19/60,1) | D19: =SUMIFS(日別!$C$2:$C$732,日別!$A$2:$A$732,">="&DATE($C$3,11,1),日別!$A$2:$A$732,"<"&DATE($C$3,11+1,1)) | F19: =IF(設定!A12="","",設定!A12) | G19: =IF(F19="","",ROUND(SUMIFS(記録!$D$2:$D$2001,記録!$B$2:$B$2001,F19,記録!$A$2:$A$2001,">="&DATE($C$3,1,1),記録!$A$2:$A$2001,"<"&DATE($C$3+1,1,1))/60,1)) | H19: =IF(F19="","",ROUND(SUMIF(記録!$B$2:$B$2001,F19,記録!$D$2:$D$2001)/60,1)) | J19: =IF(設定!C12="","",設定!C12) | K19: =IF(J19="","",ROUND(SUMIFS(記録!$D$2:$D$2001,記録!$C$2:$C$2001,J19,記録!$A$2:$A$2001,">="&DATE($C$3,1,1),記録!$A$2:$A$2001,"<"&DATE($C$3+1,1,1))/60,1)) | L19: =IF(OR(J19="",$B$21=0),"",SUMIFS(記録!$D$2:$D$2001,記録!$C$2:$C$2001,J19,記録!$A$2:$A$2001,">="&DATE($C$3,1,1),記録!$A$2:$A$2001,"<"&DATE($C$3+1,1,1))/$B$21) | M19: =IF(F19="",0,SUMIFS(記録!$D$2:$D$2001,記録!$B$2:$B$2001,F19,記録!$A$2:$A$2001,">="&DATE($C$3,1,1),記録!$A$2:$A$2001,"<"&DATE($C$3+1,1,1))) | N19: =IF(F19="",0,SUMIF(記録!$B$2:$B$2001,F19,記録!$D$2:$D$2001)) | O19: =IF(J19="",0,SUMIFS(記録!$D$2:$D$2001,記録!$C$2:$C$2001,J19,記録!$A$2:$A$2001,">="&DATE($C$3,1,1),記録!$A$2:$A$2001,"<"&DATE($C$3+1,1,1)))
A20: 12月 | B20: =SUMIFS(記録!$D$2:$D$2001,記録!$A$2:$A$2001,">="&DATE($C$3,12,1),記録!$A$2:$A$2001,"<"&DATE($C$3,12+1,1)) | C20: =ROUND(B20/60,1) | D20: =SUMIFS(日別!$C$2:$C$732,日別!$A$2:$A$732,">="&DATE($C$3,12,1),日別!$A$2:$A$732,"<"&DATE($C$3,12+1,1)) | F20: =IF(設定!A13="","",設定!A13) | G20: =IF(F20="","",ROUND(SUMIFS(記録!$D$2:$D$2001,記録!$B$2:$B$2001,F20,記録!$A$2:$A$2001,">="&DATE($C$3,1,1),記録!$A$2:$A$2001,"<"&DATE($C$3+1,1,1))/60,1)) | H20: =IF(F20="","",ROUND(SUMIF(記録!$B$2:$B$2001,F20,記録!$D$2:$D$2001)/60,1)) | J20: =IF(設定!C13="","",設定!C13) | K20: =IF(J20="","",ROUND(SUMIFS(記録!$D$2:$D$2001,記録!$C$2:$C$2001,J20,記録!$A$2:$A$2001,">="&DATE($C$3,1,1),記録!$A$2:$A$2001,"<"&DATE($C$3+1,1,1))/60,1)) | L20: =IF(OR(J20="",$B$21=0),"",SUMIFS(記録!$D$2:$D$2001,記録!$C$2:$C$2001,J20,記録!$A$2:$A$2001,">="&DATE($C$3,1,1),記録!$A$2:$A$2001,"<"&DATE($C$3+1,1,1))/$B$21) | M20: =IF(F20="",0,SUMIFS(記録!$D$2:$D$2001,記録!$B$2:$B$2001,F20,記録!$A$2:$A$2001,">="&DATE($C$3,1,1),記録!$A$2:$A$2001,"<"&DATE($C$3+1,1,1))) | N20: =IF(F20="",0,SUMIF(記録!$B$2:$B$2001,F20,記録!$D$2:$D$2001)) | O20: =IF(J20="",0,SUMIFS(記録!$D$2:$D$2001,記録!$C$2:$C$2001,J20,記録!$A$2:$A$2001,">="&DATE($C$3,1,1),記録!$A$2:$A$2001,"<"&DATE($C$3+1,1,1)))
A21: 合計 | B21: =SUM(B9:B20) | C21: =ROUND(B21/60,1) | D21: =SUM(D9:D20) | F21: =IF(設定!A14="","",設定!A14) | G21: =IF(F21="","",ROUND(SUMIFS(記録!$D$2:$D$2001,記録!$B$2:$B$2001,F21,記録!$A$2:$A$2001,">="&DATE($C$3,1,1),記録!$A$2:$A$2001,"<"&DATE($C$3+1,1,1))/60,1)) | H21: =IF(F21="","",ROUND(SUMIF(記録!$B$2:$B$2001,F21,記録!$D$2:$D$2001)/60,1)) | J21: 設定にない種類 | K21: =ROUND(($B$21-SUM(O9:O20))/60,1) | L21: =IF($B$21=0,"",($B$21-SUM(O9:O20))/$B$21) | M21: =IF(F21="",0,SUMIFS(記録!$D$2:$D$2001,記録!$B$2:$B$2001,F21,記録!$A$2:$A$2001,">="&DATE($C$3,1,1),記録!$A$2:$A$2001,"<"&DATE($C$3+1,1,1))) | N21: =IF(F21="",0,SUMIF(記録!$B$2:$B$2001,F21,記録!$D$2:$D$2001))
F22: =IF(設定!A15="","",設定!A15) | G22: =IF(F22="","",ROUND(SUMIFS(記録!$D$2:$D$2001,記録!$B$2:$B$2001,F22,記録!$A$2:$A$2001,">="&DATE($C$3,1,1),記録!$A$2:$A$2001,"<"&DATE($C$3+1,1,1))/60,1)) | H22: =IF(F22="","",ROUND(SUMIF(記録!$B$2:$B$2001,F22,記録!$D$2:$D$2001)/60,1)) | M22: =IF(F22="",0,SUMIFS(記録!$D$2:$D$2001,記録!$B$2:$B$2001,F22,記録!$A$2:$A$2001,">="&DATE($C$3,1,1),記録!$A$2:$A$2001,"<"&DATE($C$3+1,1,1))) | N22: =IF(F22="",0,SUMIF(記録!$B$2:$B$2001,F22,記録!$D$2:$D$2001))
F23: =IF(設定!A16="","",設定!A16) | G23: =IF(F23="","",ROUND(SUMIFS(記録!$D$2:$D$2001,記録!$B$2:$B$2001,F23,記録!$A$2:$A$2001,">="&DATE($C$3,1,1),記録!$A$2:$A$2001,"<"&DATE($C$3+1,1,1))/60,1)) | H23: =IF(F23="","",ROUND(SUMIF(記録!$B$2:$B$2001,F23,記録!$D$2:$D$2001)/60,1)) | M23: =IF(F23="",0,SUMIFS(記録!$D$2:$D$2001,記録!$B$2:$B$2001,F23,記録!$A$2:$A$2001,">="&DATE($C$3,1,1),記録!$A$2:$A$2001,"<"&DATE($C$3+1,1,1))) | N23: =IF(F23="",0,SUMIF(記録!$B$2:$B$2001,F23,記録!$D$2:$D$2001))
F24: =IF(設定!A17="","",設定!A17) | G24: =IF(F24="","",ROUND(SUMIFS(記録!$D$2:$D$2001,記録!$B$2:$B$2001,F24,記録!$A$2:$A$2001,">="&DATE($C$3,1,1),記録!$A$2:$A$2001,"<"&DATE($C$3+1,1,1))/60,1)) | H24: =IF(F24="","",ROUND(SUMIF(記録!$B$2:$B$2001,F24,記録!$D$2:$D$2001)/60,1)) | M24: =IF(F24="",0,SUMIFS(記録!$D$2:$D$2001,記録!$B$2:$B$2001,F24,記録!$A$2:$A$2001,">="&DATE($C$3,1,1),記録!$A$2:$A$2001,"<"&DATE($C$3+1,1,1))) | N24: =IF(F24="",0,SUMIF(記録!$B$2:$B$2001,F24,記録!$D$2:$D$2001))
F25: =IF(設定!A18="","",設定!A18) | G25: =IF(F25="","",ROUND(SUMIFS(記録!$D$2:$D$2001,記録!$B$2:$B$2001,F25,記録!$A$2:$A$2001,">="&DATE($C$3,1,1),記録!$A$2:$A$2001,"<"&DATE($C$3+1,1,1))/60,1)) | H25: =IF(F25="","",ROUND(SUMIF(記録!$B$2:$B$2001,F25,記録!$D$2:$D$2001)/60,1)) | M25: =IF(F25="",0,SUMIFS(記録!$D$2:$D$2001,記録!$B$2:$B$2001,F25,記録!$A$2:$A$2001,">="&DATE($C$3,1,1),記録!$A$2:$A$2001,"<"&DATE($C$3+1,1,1))) | N25: =IF(F25="",0,SUMIF(記録!$B$2:$B$2001,F25,記録!$D$2:$D$2001))
F26: =IF(設定!A19="","",設定!A19) | G26: =IF(F26="","",ROUND(SUMIFS(記録!$D$2:$D$2001,記録!$B$2:$B$2001,F26,記録!$A$2:$A$2001,">="&DATE($C$3,1,1),記録!$A$2:$A$2001,"<"&DATE($C$3+1,1,1))/60,1)) | H26: =IF(F26="","",ROUND(SUMIF(記録!$B$2:$B$2001,F26,記録!$D$2:$D$2001)/60,1)) | M26: =IF(F26="",0,SUMIFS(記録!$D$2:$D$2001,記録!$B$2:$B$2001,F26,記録!$A$2:$A$2001,">="&DATE($C$3,1,1),記録!$A$2:$A$2001,"<"&DATE($C$3+1,1,1))) | N26: =IF(F26="",0,SUMIF(記録!$B$2:$B$2001,F26,記録!$D$2:$D$2001))
F27: =IF(設定!A20="","",設定!A20) | G27: =IF(F27="","",ROUND(SUMIFS(記録!$D$2:$D$2001,記録!$B$2:$B$2001,F27,記録!$A$2:$A$2001,">="&DATE($C$3,1,1),記録!$A$2:$A$2001,"<"&DATE($C$3+1,1,1))/60,1)) | H27: =IF(F27="","",ROUND(SUMIF(記録!$B$2:$B$2001,F27,記録!$D$2:$D$2001)/60,1)) | M27: =IF(F27="",0,SUMIFS(記録!$D$2:$D$2001,記録!$B$2:$B$2001,F27,記録!$A$2:$A$2001,">="&DATE($C$3,1,1),記録!$A$2:$A$2001,"<"&DATE($C$3+1,1,1))) | N27: =IF(F27="",0,SUMIF(記録!$B$2:$B$2001,F27,記録!$D$2:$D$2001))
F28: =IF(設定!A21="","",設定!A21) | G28: =IF(F28="","",ROUND(SUMIFS(記録!$D$2:$D$2001,記録!$B$2:$B$2001,F28,記録!$A$2:$A$2001,">="&DATE($C$3,1,1),記録!$A$2:$A$2001,"<"&DATE($C$3+1,1,1))/60,1)) | H28: =IF(F28="","",ROUND(SUMIF(記録!$B$2:$B$2001,F28,記録!$D$2:$D$2001)/60,1)) | M28: =IF(F28="",0,SUMIFS(記録!$D$2:$D$2001,記録!$B$2:$B$2001,F28,記録!$A$2:$A$2001,">="&DATE($C$3,1,1),記録!$A$2:$A$2001,"<"&DATE($C$3+1,1,1))) | N28: =IF(F28="",0,SUMIF(記録!$B$2:$B$2001,F28,記録!$D$2:$D$2001))
F29: 設定にない作品名 | G29: =ROUND((SUMIFS(記録!$D$2:$D$2001,記録!$A$2:$A$2001,">="&DATE($C$3,1,1),記録!$A$2:$A$2001,"<"&DATE($C$3+1,1,1))-SUM(M9:M28))/60,1) | H29: =ROUND((SUM(記録!$D$2:$D$2001)-SUM(N9:N28))/60,1)

Sheet 記録
A1: 日付 | B1: 作品名 | C1: 作業の種類 | D1: 時間（分） | E1: メモ

Sheet 設定
A1: 作品名（20個まで） | C1: 作業の種類（12個まで）
A2: 作品A | C2: 下描き
A3: 作品B | C3: ペン入れ
A4: 作品C | C4: 着色
C5: 仕上げ
C6: 執筆
C7: 推敲
C8: 作曲
C9: 編曲
C10: 録音・ミックス
C11: 資料集め
C12: 練習
C13: その他
A24: 書きかえる前の記録は、新しい名前では数えられません（「使い方」シートを見てください）。

Sheet 日別
A1: 日付 | B1: 分 | C1: 作業した | D1: 連続（またぐ） | E1: 対象年 | F1: 連続（年の中） | H1: 対象年 | I1: =集計!$C$3
A2: =IF($I$5+0>$I$3,"",$I$5+0) | B2: =IF(A2="",0,SUMIF(記録!$A$2:$A$2001,A2,記録!$D$2:$D$2001)) | C2: =IF(B2>0,1,0) | D2: =IF(C2=1,0+1,0) | E2: =IF(A2="",0,IF(A2>=$I$2,1,0)) | F2: =IF(AND(E2=1,C2=1),0+1,0) | H2: 1月1日 | I2: =DATE(I1,1,1)
A3: =IF($I$5+1>$I$3,"",$I$5+1) | B3: =IF(A3="",0,SUMIF(記録!$A$2:$A$2001,A3,記録!$D$2:$D$2001)) | C3: =IF(B3>0,1,0) | D3: =IF(C3=1,D2+1,0) | E3: =IF(A3="",0,IF(A3>=$I$2,1,0)) | F3: =IF(AND(E3=1,C3=1),F2+1,0) | H3: 最後の日 | I3: =DATE(I1,12,31)
A4: =IF($I$5+2>$I$3,"",$I$5+2) | B4: =IF(A4="",0,SUMIF(記録!$A$2:$A$2001,A4,記録!$D$2:$D$2001)) | C4: =IF(B4>0,1,0) | D4: =IF(C4=1,D3+1,0) | E4: =IF(A4="",0,IF(A4>=$I$2,1,0)) | F4: =IF(AND(E4=1,C4=1),F3+1,0) | H4: 数える日 | I4: =IF(TODAY()>I3,I3,IF(TODAY()<I2,I2-1,IF(SUMIF(記録!$A$2:$A$2001,TODAY(),記録!$D$2:$D$2001)>0,TODAY(),TODAY()-1)))
A5: =IF($I$5+3>$I$3,"",$I$5+3) | B5: =IF(A5="",0,SUMIF(記録!$A$2:$A$2001,A5,記録!$D$2:$D$2001)) | C5: =IF(B5>0,1,0) | D5: =IF(C5=1,D4+1,0) | E5: =IF(A5="",0,IF(A5>=$I$2,1,0)) | F5: =IF(AND(E5=1,C5=1),F4+1,0) | H5: 表の始まり | I5: =DATE(I1-1,1,1)
A6: =IF($I$5+4>$I$3,"",$I$5+4) | B6: =IF(A6="",0,SUMIF(記録!$A$2:$A$2001,A6,記録!$D$2:$D$2001)) | C6: =IF(B6>0,1,0) | D6: =IF(C6=1,D5+1,0) | E6: =IF(A6="",0,IF(A6>=$I$2,1,0)) | F6: =IF(AND(E6=1,C6=1),F5+1,0)
A7: =IF($I$5+5>$I$3,"",$I$5+5) | B7: =IF(A7="",0,SUMIF(記録!$A$2:$A$2001,A7,記録!$D$2:$D$2001)) | C7: =IF(B7>0,1,0) | D7: =IF(C7=1,D6+1,0) | E7: =IF(A7="",0,IF(A7>=$I$2,1,0)) | F7: =IF(AND(E7=1,C7=1),F6+1,0)
A8: =IF($I$5+6>$I$3,"",$I$5+6) | B8: =IF(A8="",0,SUMIF(記録!$A$2:$A$2001,A8,記録!$D$2:$D$2001)) | C8: =IF(B8>0,1,0) | D8: =IF(C8=1,D7+1,0) | E8: =IF(A8="",0,IF(A8>=$I$2,1,0)) | F8: =IF(AND(E8=1,C8=1),F7+1,0)
A9: =IF($I$5+7>$I$3,"",$I$5+7) | B9: =IF(A9="",0,SUMIF(記録!$A$2:$A$2001,A9,記録!$D$2:$D$2001)) | C9: =IF(B9>0,1,0) | D9: =IF(C9=1,D8+1,0) | E9: =IF(A9="",0,IF(A9>=$I$2,1,0)) | F9: =IF(AND(E9=1,C9=1),F8+1,0)
A10: =IF($I$5+8>$I$3,"",$I$5+8) | B10: =IF(A10="",0,SUMIF(記録!$A$2:$A$2001,A10,記録!$D$2:$D$2001)) | C10: =IF(B10>0,1,0) | D10: =IF(C10=1,D9+1,0) | E10: =IF(A10="",0,IF(A10>=$I$2,1,0)) | F10: =IF(AND(E10=1,C10=1),F9+1,0)
A11: =IF($I$5+9>$I$3,"",$I$5+9) | B11: =IF(A11="",0,SUMIF(記録!$A$2:$A$2001,A11,記録!$D$2:$D$2001)) | C11: =IF(B11>0,1,0) | D11: =IF(C11=1,D10+1,0) | E11: =IF(A11="",0,IF(A11>=$I$2,1,0)) | F11: =IF(AND(E11=1,C11=1),F10+1,0)
A12: =IF($I$5+10>$I$3,"",$I$5+10) | B12: =IF(A12="",0,SUMIF(記録!$A$2:$A$2001,A12,記録!$D$2:$D$2001)) | C12: =IF(B12>0,1,0) | D12: =IF(C12=1,D11+1,0) | E12: =IF(A12="",0,IF(A12>=$I$2,1,0)) | F12: =IF(AND(E12=1,C12=1),F11+1,0)
A13: =IF($I$5+11>$I$3,"",$I$5+11) | B13: =IF(A13="",0,SUMIF(記録!$A$2:$A$2001,A13,記録!$D$2:$D$2001)) | C13: =IF(B13>0,1,0) | D13: =IF(C13=1,D12+1,0) | E13: =IF(A13="",0,IF(A13>=$I$2,1,0)) | F13: =IF(AND(E13=1,C13=1),F12+1,0)
A14: =IF($I$5+12>$I$3,"",$I$5+12) | B14: =IF(A14="",0,SUMIF(記録!$A$2:$A$2001,A14,記録!$D$2:$D$2001)) | C14: =IF(B14>0,1,0) | D14: =IF(C14=1,D13+1,0) | E14: =IF(A14="",0,IF(A14>=$I$2,1,0)) | F14: =IF(AND(E14=1,C14=1),F13+1,0)
A15: =IF($I$5+13>$I$3,"",$I$5+13) | B15: =IF(A15="",0,SUMIF(記録!$A$2:$A$2001,A15,記録!$D$2:$D$2001)) | C15: =IF(B15>0,1,0) | D15: =IF(C15=1,D14+1,0) | E15: =IF(A15="",0,IF(A15>=$I$2,1,0)) | F15: =IF(AND(E15=1,C15=1),F14+1,0)
A16: =IF($I$5+14>$I$3,"",$I$5+14) | B16: =IF(A16="",0,SUMIF(記録!$A$2:$A$2001,A16,記録!$D$2:$D$2001)) | C16: =IF(B16>0,1,0) | D16: =IF(C16=1,D15+1,0) | E16: =IF(A16="",0,IF(A16>=$I$2,1,0)) | F16: =IF(AND(E16=1,C16=1),F15+1,0)
A17: =IF($I$5+15>$I$3,"",$I$5+15) | B17: =IF(A17="",0,SUMIF(記録!$A$2:$A$2001,A17,記録!$D$2:$D$2001)) | C17: =IF(B17>0,1,0) | D17: =IF(C17=1,D16+1,0) | E17: =IF(A17="",0,IF(A17>=$I$2,1,0)) | F17: =IF(AND(E17=1,C17=1),F16+1,0)
A18: =IF($I$5+16>$I$3,"",$I$5+16) | B18: =IF(A18="",0,SUMIF(記録!$A$2:$A$2001,A18,記録!$D$2:$D$2001)) | C18: =IF(B18>0,1,0) | D18: =IF(C18=1,D17+1,0) | E18: =IF(A18="",0,IF(A18>=$I$2,1,0)) | F18: =IF(AND(E18=1,C18=1),F17+1,0)
A19: =IF($I$5+17>$I$3,"",$I$5+17) | B19: =IF(A19="",0,SUMIF(記録!$A$2:$A$2001,A19,記録!$D$2:$D$2001)) | C19: =IF(B19>0,1,0) | D19: =IF(C19=1,D18+1,0) | E19: =IF(A19="",0,IF(A19>=$I$2,1,0)) | F19: =IF(AND(E19=1,C19=1),F18+1,0)
A20: =IF($I$5+18>$I$3,"",$I$5+18) | B20: =IF(A20="",0,SUMIF(記録!$A$2:$A$2001,A20,記録!$D$2:$D$2001)) | C20: =IF(B20>0,1,0) | D20: =IF(C20=1,D19+1,0) | E20: =IF(A20="",0,IF(A20>=$I$2,1,0)) | F20: =IF(AND(E20=1,C20=1),F19+1,0)
A21: =IF($I$5+19>$I$3,"",$I$5+19) | B21: =IF(A21="",0,SUMIF(記録!$A$2:$A$2001,A21,記録!$D$2:$D$2001)) | C21: =IF(B21>0,1,0) | D21: =IF(C21=1,D20+1,0) | E21: =IF(A21="",0,IF(A21>=$I$2,1,0)) | F21: =IF(AND(E21=1,C21=1),F20+1,0)
A22: =IF($I$5+20>$I$3,"",$I$5+20) | B22: =IF(A22="",0,SUMIF(記録!$A$2:$A$2001,A22,記録!$D$2:$D$2001)) | C22: =IF(B22>0,1,0) | D22: =IF(C22=1,D21+1,0) | E22: =IF(A22="",0,IF(A22>=$I$2,1,0)) | F22: =IF(AND(E22=1,C22=1),F21+1,0)
A23: =IF($I$5+21>$I$3,"",$I$5+21) | B23: =IF(A23="",0,SUMIF(記録!$A$2:$A$2001,A23,記録!$D$2:$D$2001)) | C23: =IF(B23>0,1,0) | D23: =IF(C23=1,D22+1,0) | E23: =IF(A23="",0,IF(A23>=$I$2,1,0)) | F23: =IF(AND(E23=1,C23=1),F22+1,0)
A24: =IF($I$5+22>$I$3,"",$I$5+22) | B24: =IF(A24="",0,SUMIF(記録!$A$2:$A$2001,A24,記録!$D$2:$D$2001)) | C24: =IF(B24>0,1,0) | D24: =IF(C24=1,D23+1,0) | E24: =IF(A24="",0,IF(A24>=$I$2,1,0)) | F24: =IF(AND(E24=1,C24=1),F23+1,0)
A25: =IF($I$5+23>$I$3,"",$I$5+23) | B25: =IF(A25="",0,SUMIF(記録!$A$2:$A$2001,A25,記録!$D$2:$D$2001)) | C25: =IF(B25>0,1,0) | D25: =IF(C25=1,D24+1,0) | E25: =IF(A25="",0,IF(A25>=$I$2,1,0)) | F25: =IF(AND(E25=1,C25=1),F24+1,0)
A26: =IF($I$5+24>$I$3,"",$I$5+24) | B26: =IF(A26="",0,SUMIF(記録!$A$2:$A$2001,A26,記録!$D$2:$D$2001)) | C26: =IF(B26>0,1,0) | D26: =IF(C26=1,D25+1,0) | E26: =IF(A26="",0,IF(A26>=$I$2,1,0)) | F26: =IF(AND(E26=1,C26=1),F25+1,0)
A27: =IF($I$5+25>$I$3,"",$I$5+25) | B27: =IF(A27="",0,SUMIF(記録!$A$2:$A$2001,A27,記録!$D$2:$D$2001)) | C27: =IF(B27>0,1,0) | D27: =IF(C27=1,D26+1,0) | E27: =IF(A27="",0,IF(A27>=$I$2,1,0)) | F27: =IF(AND(E27=1,C27=1),F26+1,0)
A28: =IF($I$5+26>$I$3,"",$I$5+26) | B28: =IF(A28="",0,SUMIF(記録!$A$2:$A$2001,A28,記録!$D$2:$D$2001)) | C28: =IF(B28>0,1,0) | D28: =IF(C28=1,D27+1,0) | E28: =IF(A28="",0,IF(A28>=$I$2,1,0)) | F28: =IF(AND(E28=1,C28=1),F27+1,0)
A29: =IF($I$5+27>$I$3,"",$I$5+27) | B29: =IF(A29="",0,SUMIF(記録!$A$2:$A$2001,A29,記録!$D$2:$D$2001)) | C29: =IF(B29>0,1,0) | D29: =IF(C29=1,D28+1,0) | E29: =IF(A29="",0,IF(A29>=$I$2,1,0)) | F29: =IF(AND(E29=1,C29=1),F28+1,0)
A30: =IF($I$5+28>$I$3,"",$I$5+28) | B30: =IF(A30="",0,SUMIF(記録!$A$2:$A$2001,A30,記録!$D$2:$D$2001)) | C30: =IF(B30>0,1,0) | D30: =IF(C30=1,D29+1,0) | E30: =IF(A30="",0,IF(A30>=$I$2,1,0)) | F30: =IF(AND(E30=1,C30=1),F29+1,0)
A31: =IF($I$5+29>$I$3,"",$I$5+29) | B31: =IF(A31="",0,SUMIF(記録!$A$2:$A$2001,A31,記録!$D$2:$D$2001)) | C31: =IF(B31>0,1,0) | D31: =IF(C31=1,D30+1,0) | E31: =IF(A31="",0,IF(A31>=$I$2,1,0)) | F31: =IF(AND(E31=1,C31=1),F30+1,0)
A32: =IF($I$5+30>$I$3,"",$I$5+30) | B32: =IF(A32="",0,SUMIF(記録!$A$2:$A$2001,A32,記録!$D$2:$D$2001)) | C32: =IF(B32>0,1,0) | D32: =IF(C32=1,D31+1,0) | E32: =IF(A32="",0,IF(A32>=$I$2,1,0)) | F32: =IF(AND(E32=1,C32=1),F31+1,0)
A33: =IF($I$5+31>$I$3,"",$I$5+31) | B33: =IF(A33="",0,SUMIF(記録!$A$2:$A$2001,A33,記録!$D$2:$D$2001)) | C33: =IF(B33>0,1,0) | D33: =IF(C33=1,D32+1,0) | E33: =IF(A33="",0,IF(A33>=$I$2,1,0)) | F33: =IF(AND(E33=1,C33=1),F32+1,0)
A34: =IF($I$5+32>$I$3,"",$I$5+32) | B34: =IF(A34="",0,SUMIF(記録!$A$2:$A$2001,A34,記録!$D$2:$D$2001)) | C34: =IF(B34>0,1,0) | D34: =IF(C34=1,D33+1,0) | E34: =IF(A34="",0,IF(A34>=$I$2,1,0)) | F34: =IF(AND(E34=1,C34=1),F33+1,0)
A35: =IF($I$5+33>$I$3,"",$I$5+33) | B35: =IF(A35="",0,SUMIF(記録!$A$2:$A$2001,A35,記録!$D$2:$D$2001)) | C35: =IF(B35>0,1,0) | D35: =IF(C35=1,D34+1,0) | E35: =IF(A35="",0,IF(A35>=$I$2,1,0)) | F35: =IF(AND(E35=1,C35=1),F34+1,0)
A36: =IF($I$5+34>$I$3,"",$I$5+34) | B36: =IF(A36="",0,SUMIF(記録!$A$2:$A$2001,A36,記録!$D$2:$D$2001)) | C36: =IF(B36>0,1,0) | D36: =IF(C36=1,D35+1,0) | E36: =IF(A36="",0,IF(A36>=$I$2,1,0)) | F36: =IF(AND(E36=1,C36=1),F35+1,0)
A37: =IF($I$5+35>$I$3,"",$I$5+35) | B37: =IF(A37="",0,SUMIF(記録!$A$2:$A$2001,A37,記録!$D$2:$D$2001)) | C37: =IF(B37>0,1,0) | D37: =IF(C37=1,D36+1,0) | E37: =IF(A37="",0,IF(A37>=$I$2,1,0)) | F37: =IF(AND(E37=1,C37=1),F36+1,0)
A38: =IF($I$5+36>$I$3,"",$I$5+36) | B38: =IF(A38="",0,SUMIF(記録!$A$2:$A$2001,A38,記録!$D$2:$D$2001)) | C38: =IF(B38>0,1,0) | D38: =IF(C38=1,D37+1,0) | E38: =IF(A38="",0,IF(A38>=$I$2,1,0)) | F38: =IF(AND(E38=1,C38=1),F37+1,0)
A39: =IF($I$5+37>$I$3,"",$I$5+37) | B39: =IF(A39="",0,SUMIF(記録!$A$2:$A$2001,A39,記録!$D$2:$D$2001)) | C39: =IF(B39>0,1,0) | D39: =IF(C39=1,D38+1,0) | E39: =IF(A39="",0,IF(A39>=$I$2,1,0)) | F39: =IF(AND(E39=1,C39=1),F38+1,0)
A40: =IF($I$5+38>$I$3,"",$I$5+38) | B40: =IF(A40="",0,SUMIF(記録!$A$2:$A$2001,A40,記録!$D$2:$D$2001)) | C40: =IF(B40>0,1,0) | D40: =IF(C40=1,D39+1,0) | E40: =IF(A40="",0,IF(A40>=$I$2,1,0)) | F40: =IF(AND(E40=1,C40=1),F39+1,0)
...
