Workbook

Sheet 使い方
B1: 創作の作業時間ログ
B2: えりまき工房 ／ 分かり合えないとかげさん
B4: ■ 30秒で分かる使い方
B5: 1. 「記録」シートに、日付・作品名・作業の種類・時間（分）を1行ずつ書きます。メモは自由です。
B6: 2. 「集計」シートを開くと、月ごとの合計、作品ごと・作業の種類ごとの時間、続けて作業した日数、グラフが自動で出ます。
B7: 3. 作品名と作業の種類は「設定」シートで書きかえ・追加できます（作品名20個、作業の種類12個まで）。
B9: ■ 入力のきまり
B10: ・色のついたセルだけ入力できます。ほかのセルは、式をうっかり消さないように保護しています（パスワードなし）。
B11: ・日付は 2026/10/23 のように入れます。時間は分で、1〜1440の整数です（1時間半なら 90）。
B12: ・同じ日に何行書いてもかまいません。並び順も自由です（並べ替え・フィルターも使えます）。
B13: ・作品名は「設定」のリストから選びます。リストにない名前も入れられますが、集計では「設定にない作品名」にまとめられます。
B14: ・記録は2000行まで入ります。2000行に近づいたら、新しいファイルで続けてください。
... B35: このファイルの構成と式は、AI（Claude）が作りました。

Sheet 集計
A1: 創作の作業時間ログ ― 集計
A3: 対象年 | C3: =IF(B3="",YEAR(TODAY()),B3) | D3: ← 西暦で入れる。空なら今年
A5: まとめ
A6: 合計（時間） | B6: =ROUND(SUM(B9:B20)/60,1) | C6: 作業した日数 | D6: =SUMIF(日別!E2:E732,1,日別!C2:C732) | F6: いまの連続 | G6: =IF(日別!I4<日別!I2,0,INDEX(日別!D2:D732,日別!I4-日別!I5+1))
F7: 最長の連続 | G7: =MAX(日別!F2:F732)
A8: 月 | B8: 分 | C8: 時間 | D8: 作業した日 | F8: 作品名 | G8: この年（時間） | H8: 全期間（時間） | J8: 作業の種類 | K8: 時間 | L8: 割合
A9: 1月 | B9: =SUMIFS(記録!$D$2:$D$2001,記録!$A$2:$A$2001,">="&DATE($C$3,1,1),記録!$A$2:$A$2001,"<"&DATE($C$3,1+1,1)) | C9: =ROUND(B9/60,1) | D9: =SUMIFS(日別!$C$2:$C$732,日別!$A$2:$A$732,">="&DATE($C$3,1,1),日別!$A$2:$A$732,"<"&DATE($C$3,1+1,1)) | F9: =IF(設定!A2="","",設定!A2) | G9: =IF(F9="","",ROUND(SUMIFS(記録!$D$2:$D$2001,記録!$B$2:$B$2001,F9,記録!$A$2:$A$2001,">="&DATE($C$3,1,1),記録!$A$2:$A$2001,"<"&DATE($C$3+1,1,1))/60,1)) | H9: =IF(F9="","",ROUND(SUMIF(記録!$B$2:$B$2001,F9,記録!$D$2:$D$2001)/60,1)) | J9: =IF(設定!C2="","",設定!C2) | K9: =IF(J9="","",ROUND(SUMIFS(記録!$D$2:$D$2001,記録!$C$2:$C$2001,J9,記録!$A$2:$A$2001,">="&DATE($C$3,1,1),記録!$A$2:$A$2001,"<"&DATE($C$3+1,1,1))/60,1)) | L9: =IF(OR(J9="",$B$21=0),"",SUMIFS(記録!$D$2:$D$2001,記録!$C$2:$C$2001,J9,記録!$A$2:$A$2001,">="&DATE($C$3,1,1),記録!$A$2:$A$2001,"<"&DATE($C$3+1,1,1))/$B$21) | M9: =IF(F9="",0,SUMIFS(記録!$D$2:$D$2001,記録!$B$2:$B$2001,F9,記録!$A$2:$A$2001,">="&DATE($C$3,1,1),記録!$A$2:$A$2001,"<"&DATE($C$3+1,1,1))) | N9: =IF(F9="",0,SUMIF(記録!$B$2:$B$2001,F9,記録!$D$2:$D$2001)) | O9: =IF(J9="",0,SUMIFS(記録!$D$2:$D$2001,記録!$C$2:$C$2001,J9,記録!$A$2:$A$2001,">="&DATE($C$3,1,1),記録!$A$2:$A$2001,"<"&DATE($C$3+1,1,1)))
A10: 2月 | B10: =SUMIFS(記録!$D$2:$D$2001,記録!$A$2:$A$2001,">="&DATE($C$3,2,1),記録!$A$2:$A$2001,"<"&DATE($C$3,2+1,1)) | C10: =ROUND(B10/60,1) | D10: =SUMIFS(日別!$C$2:$C$732,日別!$A$2:$A$732,">="&DATE($C$3,2,1),日別!$A$2:$A$732,"<"&DATE($C$3,2+1,1)) | F10: =IF(設定!A3="","",設定!A3) | G10: =IF(F10="","",ROUND(SUMIFS(記録!$D$2:$D$2001,記録!$B$2:$B$2001,F10,記録!$A$2:$A$2001,">="&DATE($C$3,1,1),記録!$A$2:$A$2001,"<"&DATE($C$3+1,1,1))/60,1)) | H10: =IF(F10="","",ROUND(SUMIF(記録!$B$2:$B$2001,F10,記録!$D$2:$D$2001)/60,1)) | J10: =IF(設定!C3="","",設定!C3) | K10: =IF(J10="","",ROUND(SUMIFS(記録!$D$2:$D$2001,記録!$C$2:$C$2001,J10,記録!$A$2:$A$2001,">="&DATE($C$3,1,1),記録!$A$2:$A$2001,"<"&DATE($C$3+1,1,1))/60,1)) | L10: =IF(OR(J10="",$B$21=0),"",SUMIFS(記録!$D$2:$D$2001,記録!$C$2:$C$2001,J10,記録!$A$2:$A$2001,">="&DATE($C$3,1,1),記録!$A$2:$A$2001,"<"&DATE($C$3+1,1,1))/$B$21) | M10: =IF(F10="",0,SUMIFS(記録!$D$2:$D$2001,記録!$B$2:$B$2001,F10,記録!$A$2:$A$2001,">="&DATE($C$3,1,1),記録!$A$2:$A$2001,"<"&DATE($C$3+1,1,1))) | N10: =IF(F10="",0,SUMIF(記録!$B$2:$B$2001,F10,記録!$D$2:$D$2001)) | O10: =IF(J10="",0,SUMIFS(記録!$D$2:$D$2001,記録!$C$2:$C$2001,J10,記録!$A$2:$A$2001,">="&DATE($C$3,1,1),記録!$A$2:$A$2001,"<"&DATE($C$3+1,1,1)))
A11: 3月 | B11: =SUMIFS(記録!$D$2:$D$2001,記録!$A$2:$A$2001,">="&DATE($C$3,3,1),記録!$A$2:$A$2001,"<"&DATE($C$3,3+1,1)) | C11: =ROUND(B11/60,1) | D11: =SUMIFS(日別!$C$2:$C$732,日別!$A$2:$A$732,">="&DATE($C$3,3,1),日別!$A$2:$A$732,"<"&DATE($C$3,3+1,1)) | F11: =IF(設定!A4="","",設定!A4) | G11: =IF(F11="","",ROUND(SUMIFS(記録!$D$2:$D$2001,記録!$B$2:$B$2001,F11,記録!$A$2:$A$2001,">="&DATE($C$3,1,1),記録!$A$2:$A$2001,"<"&DATE($C$3+1,1,1))/60,1)) | H11: =IF(F11="","",ROUND(SUMIF(記録!$B$2:$B$2001,F11,記録!$D$2:$D$2001)/60,1)) | J11: =IF(設定!C4="","",設定!C4) | K11: =IF(J11="","",ROUND(SUMIFS(記録!$D$2:$D$2001,記録!$C$2:$C$2001,J11,記録!$A$2:$A$2001,">="&DATE($C$3,1,1),記録!$A$2:$A$2001,"<"&DATE($C$3+1,1,1))/60,1)) | L11: =IF(OR(J11="",$B$21=0),"",SUMIFS(記録!$D$2:$D$2001,記録!$C$2:$C$2001,J11,記録!$A$2:$A$2001,">="&DATE($C$3,1,1),記録!$A$2:$A$2001,"<"&DATE($C$3+1,1,1))/$B$21) | M11: =IF(F11="",0,SUMIFS(記録!$D$2:$D$2001,記録!$B$2:$B$2001,F11,記録!$A$2:$A$2001,">="&DATE($C$3,1,1),記録!$A$2:$A$2001,"<"&DATE($C$3+1,1,1))) | N11: =IF(F11="",0,SUMIF(記録!$B$2:$B$2001,F11,記録!$D$2:$D$2001)) | O11: =IF(J11="",0,SUMIFS(記録!$D$2:$D$2001,記録!$C$2:$C$2001,J11,記録!$A$2:$A$2001,">="&DATE($C$3,1,1),記録!$A$2:$A$2001,"<"&DATE($C$3+1,1,1)))
A12: 4月 | B12: =SUMIFS(記録!$D$2:$D$2001,記録!$A$2:$A$2001,">="&DATE($C$3,4,1),記録!$A$2:$A$2001,"<"&DATE($C$3,4+1,1)) | C12: =ROUND(B12/60,1) | D12: =SUMIFS(日別!$C$2:$C$732,日別!$A$2:$A$732,">="&DATE($C$3,4,1),日別!$A$2:$A$732,"<"&DATE($C$3,4+1,1)) | F12: =IF(設定!A5="","",設定!A5) | G12: =IF(F12="","",ROUND(SUMIFS(記録!$D$2:$D$2001,記録!$B$2:$B$2001,F12,記録!$A$2:$A$2001,">="&DATE($C$3,1,1),記録!$A$2:$A$2001,"<"&DATE($C$3+1,1,1))/60,1)) | H12: =IF(F12="","",ROUND(SUMIF(記録!$B$2:$B$2001,F12,記録!$D$2:$D$2001)/60,1)) | J12: =IF(設定!C5="","",設定!C5) | K12: =IF(J12="","",ROUND(SUMIFS(記録!$D$2:$D$2001,記録!$C$2:$C$2001,J12,記録!$A$2:$A$2001,">="&DATE($C$3,1,1),記録!$A$2:$A$2001,"<"&DATE($C$3+1,1,1))/60,1)) | L12: =IF(OR(J12="",$B$21=0),"",SUMIFS(記録!$D$2:$D$2001,記録!$C$2:$C$2001,J12,記録!$A$2:$A$2001,">="&DATE($C$3,1,1),記録!$A$2:$A$2001,"<"&DATE($C$3+1,1,1))/$B$21) | M12: =IF(F12="",0,SUMIFS(記録!$D$2:$D$2001,記録!$B$2:$B$2001,F12,記録!$A$2:$A$2001,">="&DATE($C$3,1,1),記録!$A$2:$A$2001,"<"&DATE($C$3+1,1,1))) | N12: =IF(F12="",0,SUMIF(記録!$B$2:$B$2001,F12,記録!$D$2:$D$2001)) | O12: =IF(J12="",0,SUMIFS(記録!$D$2:$D$2001,記録!$C$2:$C$2001,J12,記録!$A$2:$A$2001,">="&DATE($C$3,1,1),記録!$A$2:$A$2001,"<"&DATE($C$3+1,1,1)))
A13: 5月 | B13: =SUMIFS(記録!$D$2:$D$2001,記録!$A$2:$A$2001,">="&DATE($C$3,5,1),記録!$A$2:$A$2001,"<"&DATE($C$3,5+1,1)) | C13: =ROUND(B13/60,1) | D13: =SUMIFS(日別!$C$2:$C$732,日別!$A$2:$A$732,">="&DATE($C$3,5,1),日別!$A$2:$A$732,"<"&DATE($C$3,5+1,1)) | F13: =IF(設定!A6="","",設定!A6) | G13: =IF(F13="","",ROUND(SUMIFS(記録!$D$2:$D$2001,記録!$B$2:$B$2001,F13,記録!$A$2:$A$2001,">="&DATE($C$3,1,1),記録!$A$2:$A$2001,"<"&DATE($C$3+1,1,1))/60,1)) | H13: =IF(F13="","",ROUND(SUMIF(記録!$B$2:$B$2001,F13,記録!$D$2:$D$2001)/60,1)) | J13: =IF(設定!C6="","",設定!C6) | K13: =IF(J13="","",ROUND(SUMIFS(記録!$D$2:$D$2001,記録!$C$2:$C$2001,J13,記録!$A$2:$A$2001,">="&DATE($C$3,1,1),記録!$A$2:$A$2001,"<"&DATE($C$3+1,1,1))/60,1)) | L13: =IF(OR(J13="",$B$21=0),"",SUMIFS(記録!$D$2:$D$2001,記録!$C$2:$C$2001,J13,記録!$A$2:$A$2001,">="&DATE($C$3,1,1),記録!$A$2:$A$2001,"<"&DATE($C$3+1,1,1))/$B$21) | M13: =IF(F13="",0,SUMIFS(記録!$D$2:$D$2001,記録!$B$2:$B$2001,F13,記録!$A$2:$A$2001,">="&DATE($C$3,1,1),記録!$A$2:$A$2001,"<"&DATE($C$3+1,1,1))) | N13: =IF(F13="",0,SUMIF(記録!$B$2:$B$2001,F13,記録!$D$2:$D$2001)) | O13: =IF(J13="",0,SUMIFS(記録!$D$2:$D$2001,記録!$C$2:$C$2001,J13,記録!$A$2:$A$2001,">="&DATE($C$3,1,1),記録!$A$2:$A$2001,"<"&DATE($C$3+1,1,1)))
A14: 6月 | B14: =SUMIFS(記録!$D$2:$D$2001,記録!$A$2:$A$2001,">="&DATE($C$3,6,1),記録!$A$2:$A$2001,"<"&DATE($C$3,6+1,1)) | C14: =ROUND(B14/60,1) | D14: =SUMIFS(日別!$C$2:$C$732,日別!$A$2:$A$732,">="&DATE($C$3,6,1),日別!$A$2:$A$732,"<"&DATE($C$3,6+1,1)) | F14: =IF(設定!A7="","",設定!A7) | G14: =IF(F14="","",ROUND(SUMIFS(記録!$D$2:$D$2001,記録!$B$2:$B$2001,F14,記録!$A$2:$A$2001,">="&DATE($C$3,1,1),記録!$A$2:$A$2001,"<"&DATE($C$3+1,1,1))/60,1)) | H14: =IF(F14="","",ROUND(SUMIF(記録!$B$2:$B$2001,F14,記録!$D$2:$D$2001)/60,1)) | J14: =IF(設定!C7="","",設定!C7) | K14: =IF(J14="","",ROUND(SUMIFS(記録!$D$2:$D$2001,記録!$C$2:$C$2001,J14,記録!$A$2:$A$2001,">="&DATE($C$3,1,1),記録!$A$2:$A$2001,"<"&DATE($C$3+1,1,1))/60,1)) | L14: =IF(OR(J14="",$B$21=0),"",SUMIFS(記録!$D$2:$D$2001,記録!$C$2:$C$2001,J14,記録!$A$2:$A$2001,">="&DATE($C$3,1,1),記録!$A$2:$A$2001,"<"&DATE($C$3+1,1,1))/$B$21) | M14: =IF(F14="",0,SUMIFS(記録!$D$2:$D$2001,記録!$B$2:$B$2001,F14,記録!$A$2:$A$2001,">="&DATE($C$3,1,1),記録!$A$2:$A$2001,"<"&DATE($C$3+1,1,1))) | N14: =IF(F14="",0,SUMIF(記録!$B$2:$B$2001,F14,記録!$D$2:$D$2001)) | O14: =IF(J14="",0,SUMIFS(記録!$D$2:$D$2001,記録!$C$2:$C$2001,J14,記録!$A$2:$A$2001,">="&DATE($C$3,1,1),記録!$A$2:$A$2001,"<"&DATE($C$3+1,1,1)))
A15: 7月 | B15: =SUMIFS(記録!$D$2:$D$2001,記録!$A$2:$A$2001,">="&DATE($C$3,7,1),記録!$A$2:$A$2001,"<"&DATE($C$3,7+1,1)) | C15: =ROUND(B15/60,1) | D15: =SUMIFS(日別!$C$2:$C$732,日別!$A$2:$A$732,">="&DATE($C$3,7,1),日別!$A$2:$A$732,"<"&DATE($C$3,7+1,1)) | F15: =IF(設定!A8="","",設定!A8) | G15: =IF(F15="","",ROUND(SUMIFS(記録!$D$2:$D$2001,記録!$B$2:$B$2001,F15,記録!$A$2:$A$2001,">="&DATE($C$3,1,1),記録!$A$2:$A$2001,"<"&DATE($C$3+1,1,1))/60,1)) | H15: =IF(F15="","",ROUND(SUMIF(記録!$B$2:$B$2001,F15,記録!$D$2:$D$2001)/60,1)) | J15: =IF(設定!C8="","",設定!C8) | K15: =IF(J15="","",ROUND(SUMIFS(記録!$D$2:$D$2001,記録!$C$2:$C$2001,J15,記録!$A$2:$A$2001,">="&DATE($C$3,1,1),記録!$A$2:$A$2001,"<"&DATE($C$3+1,1,1))/60,1)) | L15: =IF(OR(J15="",$B$21=0),"",SUMIFS(記録!$D$2:$D$2001,記録!$C$2:$C$2001,J15,記録!$A$2:$A$2001,">="&DATE($C$3,1,1),記録!$A$2:$A$2001,"<"&DATE($C$3+1,1,1))/$B$21) | M15: =IF(F15="",0,SUMIFS(記録!$D$2:$D$2001,記録!$B$2:$B$2001,F15,記録!$A$2:$A$2001,">="&DATE($C$3,1,1),記録!$A$2:$A$2001,"<"&DATE($C$3+1,1,1))) | N15: =IF(F15="",0,SUMIF(記録!$B$2:$B$2001,F15,記録!$D$2:$D$2001)) | O15: =IF(J15="",0,SUMIFS(記録!$D$2:$D$2001,記録!$C$2:$C$2001,J15,記録!$A$2:$A$2001,">="&DATE($C$3,1,1),記録!$A$2:$A$2001,"<"&DATE($C$3+1,1,1)))
A16: 8月 | B16: =SUMIFS(記録!$D$2:$D$2001,記録!$A$2:$A$2001,">="&DATE($C$3,8,1),記録!$A$2:$A$2001,"<"&DATE($C$3,8+1,1)) | C16: =ROUND(B16/60,1) | D16: =SUMIFS(日別!$C$2:$C$732,日別!$A$2:$A$732,">="&DATE($C$3,8,1),日別!$A$2:$A$732,"<"&DATE($C$3,8+1,1)) | F16: =IF(設定!A9="","",設定!A9) | G16: =IF(F16="","",ROUND(SUMIFS(記録!$D$2:$D$2001,記録!$B$2:$B$2001,F16,記録!$A$2:$A$2001,">="&DATE($C$3,1,1),記録!$A$2:$A$2001,"<"&DATE($C$3+1,1,1))/60,1)) | H16: =IF(F16="","",ROUND(SUMIF(記録!$B$2:$B$2001,F16,記録!$D$2:$D$2001)/60,1)) | J16: =IF(設定!C9="","",設定!C9) | K16: =IF(J16="","",ROUND(SUMIFS(記録!$D$2:$D$2001,記録!$C$2:$C$2001,J16,記録!$A$2:$A$2001,">="&DATE($C$3,1,1),記録!$A$2:$A$2001,"<"&DATE($C$3+1,1,1))/60,1)) | L16: =IF(OR(J16="",$B$21=0),"",SUMIFS(記録!$D$2:$D$2001,記録!$C$2:$C$2001,J16,記録!$A$2:$A$2001,">="&DATE($C$3,1,1),記録!$A$2:$A$2001,"<"&DATE($C$3+1,1,1))/$B$21) | M16: =IF(F16="",0,SUMIFS(記録!$D$2:$D$2001,記録!$B$2:$B$2001,F16,記録!$A$2:$A$2001,">="&DATE($C$3,1,1),記録!$A$2:$A$2001,"<"&DATE($C$3+1,1,1))) | N16: =IF(F16="",0,SUMIF(記録!$B$2:$B$2001,F16,記録!$D$2:$D$2001)) | O16: =IF(J16="",0,SUMIFS(記録!$D$2:$D$2001,記録!$C$2:$C$2001,J16,記録!$A$2:$A$2001,">="&DATE($C$3,1,1),記録!$A$2:$A$2001,"<"&DATE($C$3+1,1,1)))
A17: 9月 | B17: =SUMIFS(記録!$D$2:$D$2001,記録!$A$2:$A$2001,">="&DATE($C$3,9,1),記録!$A$2:$A$2001,"<"&DATE($C$3,9+1,1)) | C17: =ROUND(B17/60,1) | D17: =SUMIFS(日別!$C$2:$C$732,日別!$A$2:$A$732,">="&DATE($C$3,9,1),日別!$A$2:$A$732,"<"&DATE($C$3,9+1,1)) | F17: =IF(設定!A10="","",設定!A10) | G17: =IF(F17="","",ROUND(SUMIFS(記録!$D$2:$D$2001,記録!$B$2:$B$2001,F17,記録!$A$2:$A$2001,">="&DATE($C$3,1,1),記録!$A$2:$A$2001,"<"&DATE($C$3+1,1,1))/60,1)) | H17: =IF(F17="","",ROUND(SUMIF(記録!$B$2:$B$2001,F17,記録!$D$2:$D$2001)/60,1)) | J17: =IF(設定!C10="","",設定!C10) | K17: =IF(J17="","",ROUND(SUMIFS(記録!$D$2:$D$2001,記録!$C$2:$C$2001,J17,記録!$A$2:$A$2001,">="&DATE($C$3,1,1),記録!$A$2:$A$2001,"<"&DATE($C$3+1,1,1))/60,1)) | L17: =IF(OR(J17="",$B$21=0),"",SUMIFS(記録!$D$2:$D$2001,記録!$C$2:$C$2001,J17,記録!$A$2:$A$2001,">="&DATE($C$3,1,1),記録!$A$2:$A$2001,"<"&DATE($C$3+1,1,1))/$B$21) | M17: =IF(F17="",0,SUMIFS(記録!$D$2:$D$2001,記録!$B$2:$B$2001,F17,記録!$A$2:$A$2001,">="&DATE($C$3,1,1),記録!$A$2:$A$2001,"<"&DATE($C$3+1,1,1))) | N17: =IF(F17="",0,SUMIF(記録!$B$2:$B$2001,F17,記録!$D$2:$D$2001)) | O17: =IF(J17="",0,SUMIFS(記録!$D$2:$D$2001,記録!$C$2:$C$2001,J17,記録!$A$2:$A$2001,">="&DATE($C$3,1,1),記録!$A$2:$A$2001,"<"&DATE($C$3+1,1,1)))
A18: 10月 | B18: =SUMIFS(記録!$D$2:$D$2001,記録!$A$2:$A$2001,">="&DATE($C$3,10,1),記録!$A$2:$A$2001,"<"&DATE($C$3,10+1,1)) | C18: =ROUND(B18/60,1) | D18: =SUMIFS(日別!$C$2:$C$732,日別!$A$2:$A$732,">="&DATE($C$3,10,1),日別!$A$2:$A$732,"<"&DATE($C$3,10+1,1)) | F18: =IF(設定!A11="","",設定!A11) | G18: =IF(F18="","",ROUND(SUMIFS(記録!$D$2:$D$2001,記録!$B$2:$B$2001,F18,記録!$A$2:$A$2001,">="&DATE($C$3,1,1),記録!$A$2:$A$2001,"<"&DATE($C$3+1,1,1))/60,1)) | H18: =IF(F18="","",ROUND(SUMIF(記録!$B$2:$B$2001,F18,記録!$D$2:$D$2001)/60,1)) | J18: =IF(設定!C11="","",設定!C11) | K18: =IF(J18="","",ROUND(SUMIFS(記録!$D$2:$D$2001,記録!$C$2:$C$2001,J18,記録!$A$2:$A$2001,">="&DATE($C$3,1,1),記録!$A$2:$A$2001,"<"&DATE($C$3+1,1,1))/60,1)) | L18: =IF(OR(J18="",$B$21=0),"",SUMIFS(記録!$D$2:$D$2001,記録!$C$2:$C$2001,J18,記録!$A$2:$A$2001,">="&DATE($C$3,1,1),記録!$A$2:$A$2001,"<"&DATE($C$3+1,1,1))/$B$21) | M18: =IF(F18="",0,SUMIFS(記録!$D$2:$D$2001,記録!$B$2:$B$2001,F18,記録!$A$2:$A$2001,">="&DATE($C$3,1,1),記録!$A$2:$A$2001,"<"&DATE($C$3+1,1,1))) | N18: =IF(F18="",0,SUMIF(記録!$B$2:$B$2001,F18,記録!$D$2:$D$2001)) | O18: =IF(J18="",0,SUMIFS(記録!$D$2:$D$2001,記録!$C$2:$C$2001,J18,記録!$A$2:$A$2001,">="&DATE($C$3,1,1),記録!$A$2:$A$2001,"<"&DATE($C$3+1,1,1)))
A19: 11月 | B19: =SUMIFS(記録!$D$2:$D$2001,記録!$A$2:$A$2001,">="&DATE($C$3,11,1),記録!$A$2:$A$2001,"<"&DATE($C$3,11+1,1)) | C19: =ROUND(B19/60,1) | D19: =SUMIFS(日別!$C$2:$C$732,日別!$A$2:$A$732,">="&DATE($C$3,11,1),日別!$A$2:$A$732,"<"&DATE($C$3,11+1,1)) | F19: =IF(設定!A12="","",設定!A12) | G19: =IF(F19="","",ROUND(SUMIFS(記録!$D$2:$D$2001,記録!$B$2:$B$2001,F19,記録!$A$2:$A$2001,">="&DATE($C$3,1,1),記録!$A$2:$A$2001,"<"&DATE($C$3+1,1,1))/60,1)) | H19: =IF(F19="","",ROUND(SUMIF(記録!$B$2:$B$2001,F19,記録!$D$2:$D$2001)/60,1)) | J19: =IF(設定!C12="","",設定!C12) | K19: =IF(J19="","",ROUND(SUMIFS(記録!$D$2:$D$2001,記録!$C$2:$C$2001,J19,記録!$A$2:$A$2001,">="&DATE($C$3,1,1),記録!$A$2:$A$2001,"<"&DATE($C$3+1,1,1))/60,1)) | L19: =IF(OR(J19="",$B$21=0),"",SUMIFS(記録!$D$2:$D$2001,記録!$C$2:$C$2001,J19,記録!$A$2:$A$2001,">="&DATE($C$3,1,1),記録!$A$2:$A$2001,"<"&DATE($C$3+1,1,1))/$B$21) | M19: =IF(F19="",0,SUMIFS(記録!$D$2:$D$2001,記録!$B$2:$B$2001,F19,記録!$A$2:$A$2001,">="&DATE($C$3,1,1),記録!$A$2:$A$2001,"<"&DATE($C$3+1,1,1))) | N19: =IF(F19="",0,SUMIF(記録!$B$2:$B$2001,F19,記録!$D$2:$D$2001)) | O19: =IF(J19="",0,SUMIFS(記録!$D$2:$D$2001,記録!$C$2:$C$2001,J19,記録!$A$2:$A$2001,">="&DATE($C$3,1,1),記録!$A$2:$A$2001,"<"&DATE($C$3+1,1,1)))
A20: 12月 | B20: =SUMIFS(記録!$D$2:$D$2001,記録!$A$2:$A$2001,">="&DATE($C$3,12,1),記録!$A$2:$A$2001,"<"&DATE($C$3,12+1,1)) | C20: =ROUND(B20/60,1) | D20: =SUMIFS(日別!$C$2:$C$732,日別!$A$2:$A$732,">="&DATE($C$3,12,1),日別!$A$2:$A$732,"<"&DATE($C$3,12+1,1)) | F20: =IF(設定!A13="","",設定!A13) | G20: =IF(F20="","",ROUND(SUMIFS(記録!$D$2:$D$2001,記録!$B$2:$B$2001,F20,記録!$A$2:$A$2001,">="&DATE($C$3,1,1),記録!$A$2:$A$2001,"<"&DATE($C$3+1,1,1))/60,1)) | H20: =IF(F20="","",ROUND(SUMIF(記録!$B$2:$B$2001,F20,記録!$D$2:$D$2001)/60,1)) | J20: =IF(設定!C13="","",設定!C13) | K20: =IF(J20="","",ROUND(SUMIFS(記録!$D$2:$D$2001,記録!$C$2:$C$2001,J20,記録!$A$2:$A$2001,">="&DATE($C$3,1,1),記録!$A$2:$A$2001,"<"&DATE($C$3+1,1,1))/60,1)) | L20: =IF(OR(J20="",$B$21=0),"",SUMIFS(記録!$D$2:$D$2001,記録!$C$2:$C$2001,J20,記録!$A$2:$A$2001,">="&DATE($C$3,1,1),記録!$A$2:$A$2001,"<"&DATE($C$3+1,1,1))/$B$21) | M20: =IF(F20="",0,SUMIFS(記録!$D$2:$D$2001,記録!$B$2:$B$2001,F20,記録!$A$2:$A$2001,">="&DATE($C$3,1,1),記録!$A$2:$A$2001,"<"&DATE($C$3+1,1,1))) | N20: =IF(F20="",0,SUMIF(記録!$B$2:$B$2001,F20,記録!$D$2:$D$2001)) | O20: =IF(J20="",0,SUMIFS(記録!$D$2:$D$2001,記録!$C$2:$C$2001,J20,記録!$A$2:$A$2001,">="&DATE($C$3,1,1),記録!$A$2:$A$2001,"<"&DATE($C$3+1,1,1)))
A21: 合計 | B21: =SUM(B9:B20) | C21: =ROUND(B21/60,1) | D21: =SUM(D9:D20) | F21: =IF(設定!A14="","",設定!A14) | G21: =IF(F21="","",ROUND(SUMIFS(記録!$D$2:$D$2001,記録!$B$2:$B$2001,F21,記録!$A$2:$A$2001,">="&DATE($C$3,1,1),記録!$A$2:$A$2001,"<"&DATE($C$3+1,1,1))/60,1)) | H21: =IF(F21="","",ROUND(SUMIF(記録!$B$2:$B$2001,F21,記録!$D$2:$D$2001)/60,1)) | J21: 設定にない種類 | K21: =ROUND(($B$21-SUM(O9:O20))/60,1) | L21: =IF($B$21=0,"",($B$21-SUM(O9:O20))/$B$21) | M21: =IF(F21="",0,SUMIFS(記録!$D$2:$D$2001,記録!$B$2:$B$2001,F21,記録!$A$2:$A$2001,">="&DATE($C$3,1,1),記録!$A$2:$A$2001,"<"&DATE($C$3+1,1,1))) | N21: =IF(F21="",0,SUMIF(記録!$B$2:$B$2001,F21,記録!$D$2:$D$2001))
F22: =IF(設定!A15="","",設定!A15) | G22: =IF(F22="","",ROUND(SUMIFS(記録!$D$2:$D$2001,記録!$B$2:$B$2001,F22,記録!$A$2:$A$2001,">="&DATE($C$3,1,1),記録!$A$2:$A$2001,"<"&DATE($C$3+1,1,1))/60,1)) | H22: =IF(F22="","",ROUND(SUMIF(記録!$B$2:$B$2001,F22,記録!$D$2:$D$2001)/60,1)) | M22: =IF(F22="",0,SUMIFS(記録!$D$2:$D$2001,記録!$B$2:$B$2001,F22,記録!$A$2:$A$2001,">="&DATE($C$3,1,1),記録!$A$2:$A$2001,"<"&DATE($C$3+1,1,1))) | N22: =IF(F22="",0,SUMIF(記録!$B$2:$B$2001,F22,記録!$D$2:$D$2001))
F23: =IF(設定!A16="","",設定!A16) | G23: =IF(F23="","",ROUND(SUMIFS(記録!$D$2:$D$2001,記録!$B$2:$B$2001,F23,記録!$A$2:$A$2001,">="&DATE($C$3,1,1),記録!$A$2:$A$2001,"<"&DATE($C$3+1,1,1))/60,1)) | H23: =IF(F23="","",ROUND(SUMIF(記録!$B$2:$B$2001,F23,記録!$D$2:$D$2001)/60,1)) | M23: =IF(F23="",0,SUMIFS(記録!$D$2:$D$2001,記録!$B$2:$B$2001,F23,記録!$A$2:$A$2001,">="&DATE($C$3,1,1),記録!$A$2:$A$2001,"<"&DATE($C$3+1,1,1))) | N23: =IF(F23="",0,SUMIF(記録!$B$2:$B$2001,F23,記録!$D$2:$D$2001))
F24: =IF(設定!A17="","",設定!A17) | G24: =IF(F24="","",ROUND(SUMIFS(記録!$D$2:$D$2001,記録!$B$2:$B$2001,F24,記録!$A$2:$A$2001,">="&DATE($C$3,1,1),記録!$A$2:$A$2001,"<"&DATE($C$3+1,1,1))/60,1)) | H24: =IF(F24="","",ROUND(SUMIF(記録!$B$2:$B$2001,F24,記録!$D$2:$D$2001)/60,1)) | M24: =IF(F24="",0,SUMIFS(記録!$D$2:$D$2001,記録!$B$2:$B$2001,F24,記録!$A$2:$A$2001,">="&DATE($C$3,1,1),記録!$A$2:$A$2001,"<"&DATE($C$3+1,1,1))) | N24: =IF(F24="",0,SUMIF(記録!$B$2:$B$2001,F24,記録!$D$2:$D$2001))
F25: =IF(設定!A18="","",設定!A18) | G25: =IF(F25="","",ROUND(SUMIFS(記録!$D$2:$D$2001,記録!$B$2:$B$2001,F25,記録!$A$2:$A$2001,">="&DATE($C$3,1,1),記録!$A$2:$A$2001,"<"&DATE($C$3+1,1,1))/60,1)) | H25: =IF(F25="","",ROUND(SUMIF(記録!$B$2:$B$2001,F25,記録!$D$2:$D$2001)/60,1)) | M25: =IF(F25="",0,SUMIFS(記録!$D$2:$D$2001,記録!$B$2:$B$2001,F25,記録!$A$2:$A$2001,">="&DATE($C$3,1,1),記録!$A$2:$A$2001,"<"&DATE($C$3+1,1,1))) | N25: =IF(F25="",0,SUMIF(記録!$B$2:$B$2001,F25,記録!$D$2:$D$2001))
F26: =IF(設定!A19="","",設定!A19) | G26: =IF(F26="","",ROUND(SUMIFS(記録!$D$2:$D$2001,記録!$B$2:$B$2001,F26,記録!$A$2:$A$2001,">="&DATE($C$3,1,1),記録!$A$2:$A$2001,"<"&DATE($C$3+1,1,1))/60,1)) | H26: =IF(F26="","",ROUND(SUMIF(記録!$B$2:$B$2001,F26,記録!$D$2:$D$2001)/60,1)) | M26: =IF(F26="",0,SUMIFS(記録!$D$2:$D$2001,記録!$B$2:$B$2001,F26,記録!$A$2:$A$2001,">="&DATE($C$3,1,1),記録!$A$2:$A$2001,"<"&DATE($C$3+1,1,1))) | N26: =IF(F26="",0,SUMIF(記録!$B$2:$B$2001,F26,記録!$D$2:$D$2001))
F27: =IF(設定!A20="","",設定!A20) | G27: =IF(F27="","",ROUND(SUMIFS(記録!$D$2:$D$2001,記録!$B$2:$B$2001,F27,記録!$A$2:$A$2001,">="&DATE($C$3,1,1),記録!$A$2:$A$2001,"<"&DATE($C$3+1,1,1))/60,1)) | H27: =IF(F27="","",ROUND(SUMIF(記録!$B$2:$B$2001,F27,記録!$D$2:$D$2001)/60,1)) | M27: =IF(F27="",0,SUMIFS(記録!$D$2:$D$2001,記録!$B$2:$B$2001,F27,記録!$A$2:$A$2001,">="&DATE($C$3,1,1),記録!$A$2:$A$2001,"<"&DATE($C$3+1,1,1))) | N27: =IF(F27="",0,SUMIF(記録!$B$2:$B$2001,F27,記録!$D$2:$D$2001))
F28: =IF(設定!A21="","",設定!A21) | G28: =IF(F28="","",ROUND(SUMIFS(記録!$D$2:$D$2001,記録!$B$2:$B$2001,F28,記録!$A$2:$A$2001,">="&DATE($C$3,1,1),記録!$A$2:$A$2001,"<"&DATE($C$3+1,1,1))/60,1)) | H28: =IF(F28="","",ROUND(SUMIF(記録!$B$2:$B$2001,F28,記録!$D$2:$D$2001)/60,1)) | M28: =IF(F28="",0,SUMIFS(記録!$D$2:$D$2001,記録!$B$2:$B$2001,F28,記録!$A$2:$A$2001,">="&DATE($C$3,1,1),記録!$A$2:$A$2001,"<"&DATE($C$3+1,1,1))) | N28: =IF(F28="",0,SUMIF(記録!$B$2:$B$2001,F28,記録!$D$2:$D$2001))
F29: 設定にない作品名 | G29: =ROUND((SUMIFS(記録!$D$2:$D$2001,記録!$A$2:$A$2001,">="&DATE($C$3,1,1),記録!$A$2:$A$2001,"<"&DATE($C$3+1,1,1))-SUM(M9:M28))/60,1) | H29: =ROUND((SUM(記録!$D$2:$D$2001)-SUM(N9:N28))/60,1)

Sheet 記録
A1: 日付 | B1: 作品名 | C1: 作業の種類 | D1: 時間（分） | E1: メモ

Sheet 設定
A1: 作品名（20個まで） | C1: 作業の種類（12個まで）
A2: 作品A | C2: 下描き
A3: 作品B | C3: ペン入れ
A4: 作品C | C4: 着色
C5: 仕上げ
C6: 執筆
C7: 推敲
C8: 作曲
C9: 編曲
C10: 録音・ミックス
C11: 資料集め
C12: 練習
C13: その他
A24: 書きかえる前の記録は、新しい名前では数えられません（「使い方」シートを見てください）。

Sheet 日別
A1: 日付 | B1: 分 | C1: 作業した | D1: 連続（またぐ） | E1: 対象年 | F1: 連続（年の中） | H1: 対象年 | I1: =集計!$C$3
A2: =IF($I$5+0>$I$3,"",$I$5+0) | B2: =IF(A2="",0,SUMIF(記録!$A$2:$A$2001,A2,記録!$D$2:$D$2001)) | C2: =IF(B2>0,1,0) | D2: =IF(C2=1,0+1,0) | E2: =IF(A2="",0,IF(A2>=$I$2,1,0)) | F2: =IF(AND(E2=1,C2=1),0+1,0) | H2: 1月1日 | I2: =DATE(I1,1,1)
A3: =IF($I$5+1>$I$3,"",$I$5+1) | B3: =IF(A3="",0,SUMIF(記録!$A$2:$A$2001,A3,記録!$D$2:$D$2001)) | C3: =IF(B3>0,1,0) | D3: =IF(C3=1,D2+1,0) | E3: =IF(A3="",0,IF(A3>=$I$2,1,0)) | F3: =IF(AND(E3=1,C3=1),F2+1,0) | H3: 最後の日 | I3: =DATE(I1,12,31)
A4: =IF($I$5+2>$I$3,"",$I$5+2) | B4: =IF(A4="",0,SUMIF(記録!$A$2:$A$2001,A4,記録!$D$2:$D$2001)) | C4: =IF(B4>0,1,0) | D4: =IF(C4=1,D3+1,0) | E4: =IF(A4="",0,IF(A4>=$I$2,1,0)) | F4: =IF(AND(E4=1,C4=1),F3+1,0) | H4: 数える日 | I4: =IF(TODAY()>I3,I3,IF(TODAY()<I2,I2-1,IF(SUMIF(記録!$A$2:$A$2001,TODAY(),記録!$D$2:$D$2001)>0,TODAY(),TODAY()-1)))
A5: =IF($I$5+3>$I$3,"",$I$5+3) | B5: =IF(A5="",0,SUMIF(記録!$A$2:$A$2001,A5,記録!$D$2:$D$2001)) | C5: =IF(B5>0,1,0) | D5: =IF(C5=1,D4+1,0) | E5: =IF(A5="",0,IF(A5>=$I$2,1,0)) | F5: =IF(AND(E5=1,C5=1),F4+1,0) | H5: 表の始まり | I5: =DATE(I1-1,1,1)
A6: =IF($I$5+4>$I$3,"",$I$5+4) | B6: =IF(A6="",0,SUMIF(記録!$A$2:$A$2001,A6,記録!$D$2:$D$2001)) | C6: =IF(B6>0,1,0) | D6: =IF(C6=1,D5+1,0) | E6: =IF(A6="",0,IF(A6>=$I$2,1,0)) | F6: =IF(AND(E6=1,C6=1),F5+1,0)
A7: =IF($I$5+5>$I$3,"",$I$5+5) | B7: =IF(A7="",0,SUMIF(記録!$A$2:$A$2001,A7,記録!$D$2:$D$2001)) | C7: =IF(B7>0,1,0) | D7: =IF(C7=1,D6+1,0) | E7: =IF(A7="",0,IF(A7>=$I$2,1,0)) | F7: =IF(AND(E7=1,C7=1),F6+1,0)
A8: =IF($I$5+6>$I$3,"",$I$5+6) | B8: =IF(A8="",0,SUMIF(記録!$A$2:$A$2001,A8,記録!$D$2:$D$2001)) | C8: =IF(B8>0,1,0) | D8: =IF(C8=1,D7+1,0) | E8: =IF(A8="",0,IF(A8>=$I$2,1,0)) | F8: =IF(AND(E8=1,C8=1),F7+1,0)
A9: =IF($I$5+7>$I$3,"",$I$5+7) | B9: =IF(A9="",0,SUMIF(記録!$A$2:$A$2001,A9,記録!$D$2:$D$2001)) | C9: =IF(B9>0,1,0) | D9: =IF(C9=1,D8+1,0) | E9: =IF(A9="",0,IF(A9>=$I$2,1,0)) | F9: =IF(AND(E9=1,C9=1),F8+1,0)
A10: =IF($I$5+8>$I$3,"",$I$5+8) | B10: =IF(A10="",0,SUMIF(記録!$A$2:$A$2001,A10,記録!$D$2:$D$2001)) | C10: =IF(B10>0,1,0) | D10: =IF(C10=1,D9+1,0) | E10: =IF(A10="",0,IF(A10>=$I$2,1,0)) | F10: =IF(AND(E10=1,C10=1),F9+1,0)
A11: =IF($I$5+9>$I$3,"",$I$5+9) | B11: =IF(A11="",0,SUMIF(記録!$A$2:$A$2001,A11,記録!$D$2:$D$2001)) | C11: =IF(B11>0,1,0) | D11: =IF(C11=1,D10+1,0) | E11: =IF(A11="",0,IF(A11>=$I$2,1,0)) | F11: =IF(AND(E11=1,C11=1),F10+1,0)
A12: =IF($I$5+10>$I$3,"",$I$5+10) | B12: =IF(A12="",0,SUMIF(記録!$A$2:$A$2001,A12,記録!$D$2:$D$2001)) | C12: =IF(B12>0,1,0) | D12: =IF(C12=1,D11+1,0) | E12: =IF(A12="",0,IF(A12>=$I$2,1,0)) | F12: =IF(AND(E12=1,C12=1),F11+1,0)
A13: =IF($I$5+11>$I$3,"",$I$5+11) | B13: =IF(A13="",0,SUMIF(記録!$A$2:$A$2001,A13,記録!$D$2:$D$2001)) | C13: =IF(B13>0,1,0) | D13: =IF(C13=1,D12+1,0) | E13: =IF(A13="",0,IF(A13>=$I$2,1,0)) | F13: =IF(AND(E13=1,C13=1),F12+1,0)
A14: =IF($I$5+12>$I$3,"",$I$5+12) | B14: =IF(A14="",0,SUMIF(記録!$A$2:$A$2001,A14,記録!$D$2:$D$2001)) | C14: =IF(B14>0,1,0) | D14: =IF(C14=1,D13+1,0) | E14: =IF(A14="",0,IF(A14>=$I$2,1,0)) | F14: =IF(AND(E14=1,C14=1),F13+1,0)
A15: =IF($I$5+13>$I$3,"",$I$5+13) | B15: =IF(A15="",0,SUMIF(記録!$A$2:$A$2001,A15,記録!$D$2:$D$2001)) | C15: =IF(B15>0,1,0) | D15: =IF(C15=1,D14+1,0) | E15: =IF(A15="",0,IF(A15>=$I$2,1,0)) | F15: =IF(AND(E15=1,C15=1),F14+1,0)
A16: =IF($I$5+14>$I$3,"",$I$5+14) | B16: =IF(A16="",0,SUMIF(記録!$A$2:$A$2001,A16,記録!$D$2:$D$2001)) | C16: =IF(B16>0,1,0) | D16: =IF(C16=1,D15+1,0) | E16: =IF(A16="",0,IF(A16>=$I$2,1,0)) | F16: =IF(AND(E16=1,C16=1),F15+1,0)
A17: =IF($I$5+15>$I$3,"",$I$5+15) | B17: =IF(A17="",0,SUMIF(記録!$A$2:$A$2001,A17,記録!$D$2:$D$2001)) | C17: =IF(B17>0,1,0) | D17: =IF(C17=1,D16+1,0) | E17: =IF(A17="",0,IF(A17>=$I$2,1,0)) | F17: =IF(AND(E17=1,C17=1),F16+1,0)
A18: =IF($I$5+16>$I$3,"",$I$5+16) | B18: =IF(A18="",0,SUMIF(記録!$A$2:$A$2001,A18,記録!$D$2:$D$2001)) | C18: =IF(B18>0,1,0) | D18: =IF(C18=1,D17+1,0) | E18: =IF(A18="",0,IF(A18>=$I$2,1,0)) | F18: =IF(AND(E18=1,C18=1),F17+1,0)
A19: =IF($I$5+17>$I$3,"",$I$5+17) | B19: =IF(A19="",0,SUMIF(記録!$A$2:$A$2001,A19,記録!$D$2:$D$2001)) | C19: =IF(B19>0,1,0) | D19: =IF(C19=1,D18+1,0) | E19: =IF(A19="",0,IF(A19>=$I$2,1,0)) | F19: =IF(AND(E19=1,C19=1),F18+1,0)
A20: =IF($I$5+18>$I$3,"",$I$5+18) | B20: =IF(A20="",0,SUMIF(記録!$A$2:$A$2001,A20,記録!$D$2:$D$2001)) | C20: =IF(B20>0,1,0) | D20: =IF(C20=1,D19+1,0) | E20: =IF(A20="",0,IF(A20>=$I$2,1,0)) | F20: =IF(AND(E20=1,C20=1),F19+1,0)
A21: =IF($I$5+19>$I$3,"",$I$5+19) | B21: =IF(A21="",0,SUMIF(記録!$A$2:$A$2001,A21,記録!$D$2:$D$2001)) | C21: =IF(B21>0,1,0) | D21: =IF(C21=1,D20+1,0) | E21: =IF(A21="",0,IF(A21>=$I$2,1,0)) | F21: =IF(AND(E21=1,C21=1),F20+1,0)
A22: =IF($I$5+20>$I$3,"",$I$5+20) | B22: =IF(A22="",0,SUMIF(記録!$A$2:$A$2001,A22,記録!$D$2:$D$2001)) | C22: =IF(B22>0,1,0) | D22: =IF(C22=1,D21+1,0) | E22: =IF(A22="",0,IF(A22>=$I$2,1,0)) | F22: =IF(AND(E22=1,C22=1),F21+1,0)
A23: =IF($I$5+21>$I$3,"",$I$5+21) | B23: =IF(A23="",0,SUMIF(記録!$A$2:$A$2001,A23,記録!$D$2:$D$2001)) | C23: =IF(B23>0,1,0) | D23: =IF(C23=1,D22+1,0) | E23: =IF(A23="",0,IF(A23>=$I$2,1,0)) | F23: =IF(AND(E23=1,C23=1),F22+1,0)
A24: =IF($I$5+22>$I$3,"",$I$5+22) | B24: =IF(A24="",0,SUMIF(記録!$A$2:$A$2001,A24,記録!$D$2:$D$2001)) | C24: =IF(B24>0,1,0) | D24: =IF(C24=1,D23+1,0) | E24: =IF(A24="",0,IF(A24>=$I$2,1,0)) | F24: =IF(AND(E24=1,C24=1),F23+1,0)
A25: =IF($I$5+23>$I$3,"",$I$5+23) | B25: =IF(A25="",0,SUMIF(記録!$A$2:$A$2001,A25,記録!$D$2:$D$2001)) | C25: =IF(B25>0,1,0) | D25: =IF(C25=1,D24+1,0) | E25: =IF(A25="",0,IF(A25>=$I$2,1,0)) | F25: =IF(AND(E25=1,C25=1),F24+1,0)
A26: =IF($I$5+24>$I$3,"",$I$5+24) | B26: =IF(A26="",0,SUMIF(記録!$A$2:$A$2001,A26,記録!$D$2:$D$2001)) | C26: =IF(B26>0,1,0) | D26: =IF(C26=1,D25+1,0) | E26: =IF(A26="",0,IF(A26>=$I$2,1,0)) | F26: =IF(AND(E26=1,C26=1),F25+1,0)
A27: =IF($I$5+25>$I$3,"",$I$5+25) | B27: =IF(A27="",0,SUMIF(記録!$A$2:$A$2001,A27,記録!$D$2:$D$2001)) | C27: =IF(B27>0,1,0) | D27: =IF(C27=1,D26+1,0) | E27: =IF(A27="",0,IF(A27>=$I$2,1,0)) | F27: =IF(AND(E27=1,C27=1),F26+1,0)
A28: =IF($I$5+26>$I$3,"",$I$5+26) | B28: =IF(A28="",0,SUMIF(記録!$A$2:$A$2001,A28,記録!$D$2:$D$2001)) | C28: =IF(B28>0,1,0) | D28: =IF(C28=1,D27+1,0) | E28: =IF(A28="",0,IF(A28>=$I$2,1,0)) | F28: =IF(AND(E28=1,C28=1),F27+1,0)
A29: =IF($I$5+27>$I$3,"",$I$5+27) | B29: =IF(A29="",0,SUMIF(記録!$A$2:$A$2001,A29,記録!$D$2:$D$2001)) | C29: =IF(B29>0,1,0) | D29: =IF(C29=1,D28+1,0) | E29: =IF(A29="",0,IF(A29>=$I$2,1,0)) | F29: =IF(AND(E29=1,C29=1),F28+1,0)
A30: =IF($I$5+28>$I$3,"",$I$5+28) | B30: =IF(A30="",0,SUMIF(記録!$A$2:$A$2001,A30,記録!$D$2:$D$2001)) | C30: =IF(B30>0,1,0) | D30: =IF(C30=1,D29+1,0) | E30: =IF(A30="",0,IF(A30>=$I$2,1,0)) | F30: =IF(AND(E30=1,C30=1),F29+1,0)
A31: =IF($I$5+29>$I$3,"",$I$5+29) | B31: =IF(A31="",0,SUMIF(記録!$A$2:$A$2001,A31,記録!$D$2:$D$2001)) | C31: =IF(B31>0,1,0) | D31: =IF(C31=1,D30+1,0) | E31: =IF(A31="",0,IF(A31>=$I$2,1,0)) | F31: =IF(AND(E31=1,C31=1),F30+1,0)
A32: =IF($I$5+30>$I$3,"",$I$5+30) | B32: =IF(A32="",0,SUMIF(記録!$A$2:$A$2001,A32,記録!$D$2:$D$2001)) | C32: =IF(B32>0,1,0) | D32: =IF(C32=1,D31+1,0) | E32: =IF(A32="",0,IF(A32>=$I$2,1,0)) | F32: =IF(AND(E32=1,C32=1),F31+1,0)
A33: =IF($I$5+31>$I$3,"",$I$5+31) | B33: =IF(A33="",0,SUMIF(記録!$A$2:$A$2001,A33,記録!$D$2:$D$2001)) | C33: =IF(B33>0,1,0) | D33: =IF(C33=1,D32+1,0) | E33: =IF(A33="",0,IF(A33>=$I$2,1,0)) | F33: =IF(AND(E33=1,C33=1),F32+1,0)
A34: =IF($I$5+32>$I$3,"",$I$5+32) | B34: =IF(A34="",0,SUMIF(記録!$A$2:$A$2001,A34,記録!$D$2:$D$2001)) | C34: =IF(B34>0,1,0) | D34: =IF(C34=1,D33+1,0) | E34: =IF(A34="",0,IF(A34>=$I$2,1,0)) | F34: =IF(AND(E34=1,C34=1),F33+1,0)
A35: =IF($I$5+33>$I$3,"",$I$5+33) | B35: =IF(A35="",0,SUMIF(記録!$A$2:$A$2001,A35,記録!$D$2:$D$2001)) | C35: =IF(B35>0,1,0) | D35: =IF(C35=1,D34+1,0) | E35: =IF(A35="",0,IF(A35>=$I$2,1,0)) | F35: =IF(AND(E35=1,C35=1),F34+1,0)
A36: =IF($I$5+34>$I$3,"",$I$5+34) | B36: =IF(A36="",0,SUMIF(記録!$A$2:$A$2001,A36,記録!$D$2:$D$2001)) | C36: =IF(B36>0,1,0) | D36: =IF(C36=1,D35+1,0) | E36: =IF(A36="",0,IF(A36>=$I$2,1,0)) | F36: =IF(AND(E36=1,C36=1),F35+1,0)
A37: =IF($I$5+35>$I$3,"",$I$5+35) | B37: =IF(A37="",0,SUMIF(記録!$A$2:$A$2001,A37,記録!$D$2:$D$2001)) | C37: =IF(B37>0,1,0) | D37: =IF(C37=1,D36+1,0) | E37: =IF(A37="",0,IF(A37>=$I$2,1,0)) | F37: =IF(AND(E37=1,C37=1),F36+1,0)
A38: =IF($I$5+36>$I$3,"",$I$5+36) | B38: =IF(A38="",0,SUMIF(記録!$A$2:$A$2001,A38,記録!$D$2:$D$2001)) | C38: =IF(B38>0,1,0) | D38: =IF(C38=1,D37+1,0) | E38: =IF(A38="",0,IF(A38>=$I$2,1,0)) | F38: =IF(AND(E38=1,C38=1),F37+1,0)
A39: =IF($I$5+37>$I$3,"",$I$5+37) | B39: =IF(A39="",0,SUMIF(記録!$A$2:$A$2001,A39,記録!$D$2:$D$2001)) | C39: =IF(B39>0,1,0) | D39: =IF(C39=1,D38+1,0) | E39: =IF(A39="",0,IF(A39>=$I$2,1,0)) | F39: =IF(AND(E39=1,C39=1),F38+1,0)
A40: =IF($I$5+38>$I$3,"",$I$5+38) | B40: =IF(A40="",0,SUMIF(記録!$A$2:$A$2001,A40,記録!$D$2:$D$2001)) | C40: =IF(B40>0,1,0) | D40: =IF(C40=1,D39+1,0) | E40: =IF(A40="",0,IF(A40>=$I$2,1,0)) | F40: =IF(AND(E40=1,C40=1),F39+1,0)
A41: =IF($I$5+39>$I$3,"",$I$5+39) | B41: =IF(A41="",0,SUMIF(記録!$A$2:$A$2001,A41,記録!$D$2:$D$2001)) | C41: =IF(B41>0,1,0) | D41: =IF(C41=1,D40+1,0) | E41: =IF(A41="",0,IF(A41>=$I$2,1,0)) | F41: =IF(AND(E41=1,C41=1),F40+1,0)
A42: =IF($I$5+40>$I$3,"",$I$5+40) | B42: =IF(A42="",0,SUMIF(記録!$A$2:$A$2001,A42,記録!$D$2:$D$2001)) | C42: =IF(B42>0,1,0) | D42: =IF(C42=1,D41+1,0) | E42: =IF(A42="",0,IF(A42>=$I$2,1,0)) | F42: =IF(AND(E42=1,C42=1),F41+1,0)
A43: =IF($I$5+41>$I$3,"",$I$5+41) | B43: =IF(A43="",0,SUMIF(記録!$A$2:$A$2001,A43,記録!$D$2:$D$2001)) | C43: =IF(B43>0,1,0) | D43: =IF(C43=1,D42+1,0) | E43: =IF(A43="",0,IF(A43>=$I$2,1,0)) | F43: =IF(AND(E43=1,C43=1),F42+1,0)
A44: =IF($I$5+42>$I$3,"",$I$5+42) | B44: =IF(A44="",0,SUMIF(記録!$A$2:$A$2001,A44,記録!$D$2:$D$2001)) | C44: =IF(B44>0,1,0) | D44: =IF(C44=1,D43+1,0) | E44: =IF(A44="",0,IF(A44>=$I$2,1,0)) | F44: =IF(AND(E44=1,C44=1),F43+1,0)
A45: =IF($I$5+43>$I$3,"",$I$5+43) | B45: =IF(A45="",0,SUMIF(記録!$A$2:$A$2001,A45,記録!$D$2:$D$2001)) | C45: =IF(B45>0,1,0) | D45: =IF(C45=1,D44+1,0) | E45: =IF(A45="",0,IF(A45>=$I$2,1,0)) | F45: =IF(AND(E45=1,C45=1),F44+1,0)
A46: =IF($I$5+44>$I$3,"",$I$5+44) | B46: =IF(A46="",0,SUMIF(記録!$A$2:$A$2001,A46,記録!$D$2:$D$2001)) | C46: =IF(B46>0,1,0) | D46: =IF(C46=1,D45+1,0) | E46: =IF(A46="",0,IF(A46>=$I$2,1,0)) | F46: =IF(AND(E46=1,C46=1),F45+1,0)
A47: =IF($I$5+45>$I$3,"",$I$5+45) | B47: =IF(A47="",0,SUMIF(記録!$A$2:$A$2001,A47,記録!$D$2:$D$2001)) | C47: =IF(B47>0,1,0) | D47: =IF(C47=1,D46+1,0) | E47: =IF(A47="",0,IF(A47>=$I$2,1,0)) | F47: =IF(AND(E47=1,C47=1),F46+1,0)
A48: =IF($I$5+46>$I$3,"",$I$5+46) | B48: =IF(A48="",0,SUMIF(記録!$A$2:$A$2001,A48,記録!$D$2:$D$2001)) | C48: =IF(B48>0,1,0) | D48: =IF(C48=1,D47+1,0) | E48: =IF(A48="",0,IF(A48>=$I$2,1,0)) | F48: =IF(AND(E48=1,C48=1),F47+1,0)
A49: =IF($I$5+47>$I$3,"",$I$5+47) | B49: =IF(A49="",0,SUMIF(記録!$A$2:$A$2001,A49,記録!$D$2:$D$2001)) | C49: =IF(B49>0,1,0) | D49: =IF(C49=1,D48+1,0) | E49: =IF(A49="",0,IF(A49>=$I$2,1,0)) | F49: =IF(AND(E49=1,C49=1),F48+1,0)
A50: =IF($I$5+48>$I$3,"",$I$5+48) | B50: =IF(A50="",0,SUMIF(記録!$A$2:$A$2001,A50,記録!$D$2:$D$2001)) | C50: =IF(B50>0,1,0) | D50: =IF(C50=1,D49+1,0) | E50: =IF(A50="",0,IF(A50>=$I$2,1,0)) | F50: =IF(AND(E50=1,C50=1),F49+1,0)
A51: =IF($I$5+49>$I$3,"",$I$5+49) | B51: =IF(A51="",0,SUMIF(記録!$A$2:$A$2001,A51,記録!$D$2:$D$2001)) | C51: =IF(B51>0,1,0) | D51: =IF(C51=1,D50+1,0) | E51: =IF(A51="",0,IF(A51>=$I$2,1,0)) | F51: =IF(AND(E51=1,C51=1),F50+1,0)
A52: =IF($I$5+50>$I$3,"",$I$5+50) | B52: =IF(A52="",0,SUMIF(記録!$A$2:$A$2001,A52,記録!$D$2:$D$2001)) | C52: =IF(B52>0,1,0) | D52: =IF(C52=1,D51+1,0) | E52: =IF(A52="",0,IF(A52>=$I$2,1,0)) | F52: =IF(AND(E52=1,C52=1),F51+1,0)
A53: =IF($I$5+51>$I$3,"",$I$5+51) | B53: =IF(A53="",0,SUMIF(記録!$A$2:$A$2001,A53,記録!$D$2:$D$2001)) | C53: =IF(B53>0,1,0) | D53: =IF(C53=1,D52+1,0) | E53: =IF(A53="",0,IF(A53>=$I$2,1,0)) | F53: =IF(AND(E53=1,C53=1),F52+1,0)
A54: =IF($I$5+52>$I$3,"",$I$5+52) | B54: =IF(A54="",0,SUMIF(記録!$A$2:$A$2001,A54,記録!$D$2:$D$2001)) | C54: =IF(B54>0,1,0) | D54: =IF(C54=1,D53+1,0) | E54: =IF(A54="",0,IF(A54>=$I$2,1,0)) | F54: =IF(AND(E54=1,C54=1),F53+1,0)
A55: =IF($I$5+53>$I$3,"",$I$5+53) | B55: =IF(A55="",0,SUMIF(記録!$A$2:$A$2001,A55,記録!$D$2:$D$2001)) | C55: =IF(B55>0,1,0) | D55: =IF(C55=1,D54+1,0) | E55: =IF(A55="",0,IF(A55>=$I$2,1,0)) | F55: =IF(AND(E55=1,C55=1),F54+1,0)
A56: =IF($I$5+54>$I$3,"",$I$5+54) | B56: =IF(A56="",0,SUMIF(記録!$A$2:$A$2001,A56,記録!$D$2:$D$2001)) | C56: =IF(B56>0,1,0) | D56: =IF(C56=1,D55+1,0) | E56: =IF(A56="",0,IF(A56>=$I$2,1,0)) | F56: =IF(AND(E56=1,C56=1),F55+1,0)
A57: =IF($I$5+55>$I$3,"",$I$5+55) | B57: =IF(A57="",0,SUMIF(記録!$A$2:$A$2001,A57,記録!$D$2:$D$2001)) | C57: =IF(B57>0,1,0) | D57: =IF(C57=1,D56+1,0) | E57: =IF(A57="",0,IF(A57>=$I$2,1,0)) | F57: =IF(AND(E57=1,C57=1),F56+1,0)
A58: =IF($I$5+56>$I$3,"",$I$5+56) | B58: =IF(A58="",0,SUMIF(記録!$A$2:$A$2001,A58,記録!$D$2:$D$2001)) | C58: =IF(B58>0,1,0) | D58: =IF(C58=1,D57+1,0) | E58: =IF(A58="",0,IF(A58>=$I$2,1,0)) | F58: =IF(AND(E58=1,C58=1),F57+1,0)
A59: =IF($I$5+57>$I$3,"",$I$5+57) | B59: =IF(A59="",0,SUMIF(記録!$A$2:$A$2001,A59,記録!$D$2:$D$2001)) | C59: =IF(B59>0,1,0) | D59: =IF(C59=1,D58+1,0) | E59: =IF(A59="",0,IF(A59>=$I$2,1,0)) | F59: =IF(AND(E59=1,C59=1),F58+1,0)
A60: =IF($I$5+58>$I$3,"",$I$5+58) | B60: =IF(A60="",0,SUMIF(記録!$A$2:$A$2001,A60,記録!$D$2:$D$2001)) | C60: =IF(B60>0,1,0) | D60: =IF(C60=1,D59+1,0) | E60: =IF(A60="",0,IF(A60>=$I$2,1,0)) | F60: =IF(AND(E60=1,C60=1),F59+1,0)
A61: =IF($I$5+59>$I$3,"",$I$5+59) | B61: =IF(A61="",0,SUMIF(記録!$A$2:$A$2001,A61,記録!$D$2:$D$2001)) | C61: =IF(B61>0,1,0) | D61: =IF(C61=1,D60+1,0) | E61: =IF(A61="",0,IF(A61>=$I$2,1,0)) | F61: =IF(AND(E61=1,C61=1),F60+1,0)
A62: =IF($I$5+60>$I$3,"",$I$5+60) | B62: =IF(A62="",0,SUMIF(記録!$A$2:$A$2001,A62,記録!$D$2:$D$2001)) | C62: =IF(B62>0,1,0) | D62: =IF(C62=1,D61+1,0) | E62: =IF(A62="",0,IF(A62>=$I$2,1,0)) | F62: =IF(AND(E62=1,C62=1),F61+1,0)
A63: =IF($I$5+61>$I$3,"",$I$5+61) | B63: =IF(A63="",0,SUMIF(記録!$A$2:$A$2001,A63,記録!$D$2:$D$2001)) | C63: =IF(B63>0,1,0) | D63: =IF(C63=1,D62+1,0) | E63: =IF(A63="",0,IF(A63>=$I$2,1,0)) | F63: =IF(AND(E63=1,C63=1),F62+1,0)
A64: =IF($I$5+62>$I$3,"",$I$5+62) | B64: =IF(A64="",0,SUMIF(記録!$A$2:$A$2001,A64,記録!$D$2:$D$2001)) | C64: =IF(B64>0,1,0) | D64: =IF(C64=1,D63+1,0) | E64: =IF(A64="",0,IF(A64>=$I$2,1,0)) | F64: =IF(AND(E64=1,C64=1),F63+1,0)
A65: =IF($I$5+63>$I$3,"",$I$5+63) | B65: =IF(A65="",0,SUMIF(記録!$A$2:$A$2001,A65,記録!$D$2:$D$2001)) | C65: =IF(B65>0,1,0) | D65: =IF(C65=1,D64+1,0) | E65: =IF(A65="",0,IF(A65>=$I$2,1,0)) | F65: =IF(AND(E65=1,C65=1),F64+1,0)
A66: =IF($I$5+64>$I$3,"",$I$5+64) | B66: =IF(A66="",0,SUMIF(記録!$A$2:$A$2001,A66,記録!$D$2:$D$2001)) | C66: =IF(B66>0,1,0) | D66: =IF(C66=1,D65+1,0) | E66: =IF(A66="",0,IF(A66>=$I$2,1,0)) | F66: =IF(AND(E66=1,C66=1),F65+1,0)
A67: =IF($I$5+65>$I$3,"",$I$5+65) | B67: =IF(A67="",0,SUMIF(記録!$A$2:$A$2001,A67,記録!$D$2:$D$2001)) | C67: =IF(B67>0,1,0) | D67: =IF(C67=1,D66+1,0) | E67: =IF(A67="",0,IF(A67>=$I$2,1,0)) | F67: =IF(AND(E67=1,C67=1),F66+1,0)
A68: =IF($I$5+66>$I$3,"",$I$5+66) | B68: =IF(A68="",0,SUMIF(記録!$A$2:$A$2001,A68,記録!$D$2:$D$2001)) | C68: =IF(B68>0,1,0) | D68: =IF(C68=1,D67+1,0) | E68: =IF(A68="",0,IF(A68>=$I$2,1,0)) | F68: =IF(AND(E68=1,C68=1),F67+1,0)
A69: =IF($I$5+67>$I$3,"",$I$5+67) | B69: =IF(A69="",0,SUMIF(記録!$A$2:$A$2001,A69,記録!$D$2:$D$2001)) | C69: =IF(B69>0,1,0) | D69: =IF(C69=1,D68+1,0) | E69: =IF(A69="",0,IF(A69>=$I$2,1,0)) | F69: =IF(AND(E69=1,C69=1),F68+1,0)
A70: =IF($I$5+68>$I$3,"",$I$5+68) | B70: =IF(A70="",0,SUMIF(記録!$A$2:$A$2001,A70,記録!$D$2:$D$2001)) | C70: =IF(B70>0,1,0) | D70: =IF(C70=1,D69+1,0) | E70: =IF(A70="",0,IF(A70>=$I$2,1,0)) | F70: =IF(AND(E70=1,C70=1),F69+1,0)
A71: =IF($I$5+69>$I$3,"",$I$5+69) | B71: =IF(A71="",0,SUMIF(記録!$A$2:$A$2001,A71,記録!$D$2:$D$2001)) | C71: =IF(B71>0,1,0) | D71: =IF(C71=1,D70+1,0) | E71: =IF(A71="",0,IF(A71>=$I$2,1,0)) | F71: =IF(AND(E71=1,C71=1),F70+1,0)
A72: =IF($I$5+70>$I$3,"",$I$5+70) | B72: =IF(A72="",0,SUMIF(記録!$A$2:$A$2001,A72,記録!$D$2:$D$2001)) | C72: =IF(B72>0,1,0) | D72: =IF(C72=1,D71+1,0) | E72: =IF(A72="",0,IF(A72>=$I$2,1,0)) | F72: =IF(AND(E72=1,C72=1),F71+1,0)
A73: =IF($I$5+71>$I$3,"",$I$5+71) | B73: =IF(A73="",0,SUMIF(記録!$A$2:$A$2001,A73,記録!$D$2:$D$2001)) | C73: =IF(B73>0,1,0) | D73: =IF(C73=1,D72+1,0) | E73: =IF(A73="",0,IF(A73>=$I$2,1,0)) | F73: =IF(AND(E73=1,C73=1),F72+1,0)
A74: =IF($I$5+72>$I$3,"",$I$5+72) | B74: =IF(A74="",0,SUMIF(記録!$A$2:$A$2001,A74,記録!$D$2:$D$2001)) | C74: =IF(B74>0,1,0) | D74: =IF(C74=1,D73+1,0) | E74: =IF(A74="",0,IF(A74>=$I$2,1,0)) | F74: =IF(AND(E74=1,C74=1),F73+1,0)
A75: =IF($I$5+73>$I$3,"",$I$5+73) | B75: =IF(A75="",0,SUMIF(記録!$A$2:$A$2001,A75,記録!$D$2:$D$2001)) | C75: =IF(B75>0,1,0) | D75: =IF(C75=1,D74+1,0) | E75: =IF(A75="",0,IF(A75>=$I$2,1,0)) | F75: =IF(AND(E75=1,C75=1),F74+1,0)
A76: =IF($I$5+74>$I$3,"",$I$5+74) | B76: =IF(A76="",0,SUMIF(記録!$A$2:$A$2001,A76,記録!$D$2:$D$2001)) | C76: =IF(B76>0,1,0) | D76: =IF(C76=1,D75+1,0) | E76: =IF(A76="",0,IF(A76>=$I$2,1,0)) | F76: =IF(AND(E76=1,C76=1),F75+1,0)
A77: =IF($I$5+75>$I$3,"",$I$5+75) | B77: =IF(A77="",0,SUMIF(記録!$A$2:$A$2001,A77,記録!$D$2:$D$2001)) | C77: =IF(B77>0,1,0) | D77: =IF(C77=1,D76+1,0) | E77: =IF(A77="",0,IF(A77>=$I$2,1,0)) | F77: =IF(AND(E77=1,C77=1),F76+1,0)
A78: =IF($I$5+76>$I$3,"",$I$5+76) | B78: =IF(A78="",0,SUMIF(記録!$A$2:$A$2001,A78,記録!$D$2:$D$2001)) | C78: =IF(B78>0,1,0) | D78: =IF(C78=1,D77+1,0) | E78: =IF(A78="",0,IF(A78>=$I$2,1,0)) | F78: =IF(AND(E78=1,C78=1),F77+1,0)
A79: =IF($I$5+77>$I$3,"",$I$5+77) | B79: =IF(A79="",0,SUMIF(記録!$A$2:$A$2001,A79,記録!$D$2:$D$2001)) | C79: =IF(B79>0,1,0) | D79: =IF(C79=1,D78+1,0) | E79: =IF(A79="",0,IF(A79>=$I$2,1,0)) | F79: =IF(AND(E79=1,C79=1),F78+1,0)
A80: =IF($I$5+78>$I$3,"",$I$5+78) | B80: =IF(A80="",0,SUMIF(記録!$A$2:$A$2001,A80,記録!$D$2:$D$2001)) | C80: =IF(B80>0,1,0) | D80: =IF(C80=1,D79+1,0) | E80: =IF(A80="",0,IF(A80>=$I$2,1,0)) | F80: =IF(AND(E80=1,C80=1),F79+1,0)
A81: =IF($I$5+79>$I$3,"",$I$5+79) | B81: =IF(A81="",0,SUMIF(記録!$A$2:$A$2001,A81,記録!$D$2:$D$2001)) | C81: =IF(B81>0,1,0) | D81: =IF(C81=1,D80+1,0) | E81: =IF(A81="",0,IF(A81>=$I$2,1,0)) | F81: =IF(AND(E81=1,C81=1),F80+1,0)
A82: =IF($I$5+80>$I$3,"",$I$5+80) | B82: =IF(A82="",0,SUMIF(記録!$A$2:$A$2001,A82,記録!$D$2:$D$2001)) | C82: =IF(B82>0,1,0) | D82: =IF(C82=1,D81+1,0) | E82: =IF(A82="",0,IF(A82>=$I$2,1,0)) | F82: =IF(AND(E82=1,C82=1),F81+1,0)
A83: =IF($I$5+81>$I$3,"",$I$5+81) | B83: =IF(A83="",0,SUMIF(記録!$A$2:$A$2001,A83,記録!$D$2:$D$2001)) | C83: =IF(B83>0,1,0) | D83: =IF(C83=1,D82+1,0) | E83: =IF(A83="",0,IF(A83>=$I$2,1,0)) | F83: =IF(AND(E83=1,C83=1),F82+1,0)
A84: =IF($I$5+82>$I$3,"",$I$5+82) | B84: =IF(A84="",0,SUMIF(記録!$A$2:$A$2001,A84,記録!$D$2:$D$2001)) | C84: =IF(B84>0,1,0) | D84: =IF(C84=1,D83+1,0) | E84: =IF(A84="",0,IF(A84>=$I$2,1,0)) | F84: =IF(AND(E84=1,C84=1),F83+1,0)
A85: =IF($I$5+83>$I$3,"",$I$5+83) | B85: =IF(A85="",0,SUMIF(記録!$A$2:$A$2001,A85,記録!$D$2:$D$2001)) | C85: =IF(B85>0,1,0) | D85: =IF(C85=1,D84+1,0) | E85: =IF(A85="",0,IF(A85>=$I$2,1,0)) | F85: =IF(AND(E85=1,C85=1),F84+1,0)
A86: =IF($I$5+84>$I$3,"",$I$5+84) | B86: =IF(A86="",0,SUMIF(記録!$A$2:$A$2001,A86,記録!$D$2:$D$2001)) | C86: =IF(B86>0,1,0) | D86: =IF(C86=1,D85+1,0) | E86: =IF(A86="",0,IF(A86>=$I$2,1,0)) | F86: =IF(AND(E86=1,C86=1),F85+1,0)
A87: =IF($I$5+85>$I$3,"",$I$5+85) | B87: =IF(A87="",0,SUMIF(記録!$A$2:$A$2001,A87,記録!$D$2:$D$2001)) | C87: =IF(B87>0,1,0) | D87: =IF(C87=1,D86+1,0) | E87: =IF(A87="",0,IF(A87>=$I$2,1,0)) | F87: =IF(AND(E87=1,C87=1),F86+1,0)
A88: =IF($I$5+86>$I$3,"",$I$5+86) | B88: =IF(A88="",0,SUMIF(記録!$A$2:$A$2001,A88,記録!$D$2:$D$2001)) | C88: =IF(B88>0,1,0) | D88: =IF(C88=1,D87+1,0) | E88: =IF(A88="",0,IF(A88>=$I$2,1,0)) | F88: =IF(AND(E88=1,C88=1),F87+1,0)
A89: =IF($I$5+87>$I$3,"",$I$5+87) | B89: =IF(A89="",0,SUMIF(記録!$A$2:$A$2001,A89,記録!$D$2:$D$2001)) | C89: =IF(B89>0,1,0) | D89: =IF(C89=1,D88+1,0) | E89: =IF(A89="",0,IF(A89>=$I$2,1,0)) | F89: =IF(AND(E89=1,C89=1),F88+1,0)
A90: =IF($I$5+88>$I$3,"",$I$5+88) | B90: =IF(A90="",0,SUMIF(記録!$A$2:$A$2001,A90,記録!$D$2:$D$2001)) | C90: =IF(B90>0,1,0) | D90: =IF(C90=1,D89+1,0) | E90: =IF(A90="",0,IF(A90>=$I$2,1,0)) | F90: =IF(AND(E90=1,C90=1),F89+1,0)
A91: =IF($I$5+89>$I$3,"",$I$5+89) | B91: =IF(A91="",0,SUMIF(記録!$A$2:$A$2001,A91,記録!$D$2:$D$2001)) | C91: =IF(B91>0,1,0) | D91: =IF(C91=1,D90+1,0) | E91: =IF(A91="",0,IF(A91>=$I$2,1,0)) | F91: =IF(AND(E91=1,C91=1),F90+1,0)
A92: =IF($I$5+90>$I$3,"",$I$5+90) | B92: =IF(A92="",0,SUMIF(記録!$A$2:$A$2001,A92,記録!$D$2:$D$2001)) | C92: =IF(B92>0,1,0) | D92: =IF(C92=1,D91+1,0) | E92: =IF(A92="",0,IF(A92>=$I$2,1,0)) | F92: =IF(AND(E92=1,C92=1),F91+1,0)
A93: =IF($I$5+91>$I$3,"",$I$5+91) | B93: =IF(A93="",0,SUMIF(記録!$A$2:$A$2001,A93,記録!$D$2:$D$2001)) | C93: =IF(B93>0,1,0) | D93: =IF(C93=1,D92+1,0) | E93: =IF(A93="",0,IF(A93>=$I$2,1,0)) | F93: =IF(AND(E93=1,C93=1),F92+1,0)
A94: =IF($I$5+92>$I$3,"",$I$5+92) | B94: =IF(A94="",0,SUMIF(記録!$A$2:$A$2001,A94,記録!$D$2:$D$2001)) | C94: =IF(B94>0,1,0) | D94: =IF(C94=1,D93+1,0) | E94: =IF(A94="",0,IF(A94>=$I$2,1,0)) | F94: =IF(AND(E94=1,C94=1),F93+1,0)
A95: =IF($I$5+93>$I$3,"",$I$5+93) | B95: =IF(A95="",0,SUMIF(記録!$A$2:$A$2001,A95,記録!$D$2:$D$2001)) | C95: =IF(B95>0,1,0) | D95: =IF(C95=1,D94+1,0) | E95: =IF(A95="",0,IF(A95>=$I$2,1,0)) | F95: =IF(AND(E95=1,C95=1),F94+1,0)
A96: =IF($I$5+94>$I$3,"",$I$5+94) | B96: =IF(A96="",0,SUMIF(記録!$A$2:$A$2001,A96,記録!$D$2:$D$2001)) | C96: =IF(B96>0,1,0) | D96: =IF(C96=1,D95+1,0) | E96: =IF(A96="",0,IF(A96>=$I$2,1,0)) | F96: =IF(AND(E96=1,C96=1),F95+1,0)
A97: =IF($I$5+95>$I$3,"",$I$5+95) | B97: =IF(A97="",0,SUMIF(記録!$A$2:$A$2001,A97,記録!$D$2:$D$2001)) | C97: =IF(B97>0,1,0) | D97: =IF(C97=1,D96+1,0) | E97: =IF(A97="",0,IF(A97>=$I$2,1,0)) | F97: =IF(AND(E97=1,C97=1),F96+1,0)
A98: =IF($I$5+96>$I$3,"",$I$5+96) | B98: =IF(A98="",0,SUMIF(記録!$A$2:$A$2001,A98,記録!$D$2:$D$2001)) | C98: =IF(B98>0,1,0) | D98: =IF(C98=1,D97+1,0) | E98: =IF(A98="",0,IF(A98>=$I$2,1,0)) | F98: =IF(AND(E98=1,C98=1),F97+1,0)
A99: =IF($I$5+97>$I$3,"",$I$5+97) | B99: =IF(A99="",0,SUMIF(記録!$A$2:$A$2001,A99,記録!$D$2:$D$2001)) | C99: =IF(B99>0,1,0) | D99: =IF(C99=1,D98+1,0) | E99: =IF(A99="",0,IF(A99>=$I$2,1,0)) | F99: =IF(AND(E99=1,C99=1),F98+1,0)
A100: =IF($I$5+98>$I$3,"",$I$5+98) | B100: =IF(A100="",0,SUMIF(記録!$A$2:$A$2001,A100,記録!$D$2:$D$2001)) | C100: =IF(B100>0,1,0) | D100: =IF(C100=1,D99+1,0) | E100: =IF(A100="",0,IF(A100>=$I$2,1,0)) | F100: =IF(AND(E100=1,C100=1),F99+1,0)
...
